Workbook
Name ActualNumberOfPayments: #REF!
Name ExtraPayments: #REF!
Name InterestRate: #REF!
Name LastCol: MATCH(REPT("z",255),#REF!)
Name LastRow: MATCH(9.99E+307,#REF!)
Name LenderName: #REF!
Name LoanAmount: #REF!
Name LoanIsGood: (#REF!*#REF!*#REF!*#REF!)>0
Name LoanPeriod: #REF!
Name LoanStartDate: #REF!
Name PaymentsPerYear: #REF!
Name PrintArea_SET: OFFSET(#REF!,,,LastRow,LastCol)
Name PrintArea_SET: OFFSET(#REF!,,,LastRow,LastCol)
Name PrintArea_SET: OFFSET(#REF!,,,[0]!LastRow,[0]!LastCol)
Name PrintArea_SET: OFFSET(#REF!,,,[0]!LastRow,[0]!LastCol)
Name PrintArea_SET: OFFSET(#REF!,,,[0]!LastRow,[0]!LastCol)
Name PrintArea_SET: OFFSET(#REF!,,,[0]!LastRow,[0]!LastCol)
Name PrintArea_SET: OFFSET(#REF!,,,LastRow,LastCol)
Name PrintArea_SET: OFFSET(#REF!,,,[0]!LastRow,[0]!LastCol)
Name PrintArea_SET: OFFSET(#REF!,,,[0]!LastRow,[0]!LastCol)
Name PrintArea_SET: OFFSET(#REF!,,,[0]!LastRow,[0]!LastCol)
Name PrintArea_SET: OFFSET(#REF!,,,[0]!LastRow,[0]!LastCol)
Name PrintArea_SET: OFFSET(#REF!,,,[0]!LastRow,[0]!LastCol)
Name PrintArea_SET: OFFSET(#REF!,,,[0]!LastRow,[0]!LastCol)
Name PrintArea_SET: OFFSET(#REF!,,,LastRow,LastCol)
Name PrintArea_SET: OFFSET(#REF!,,,LastRow,LastCol)
Name ScheduledNumberOfPayments: #REF!
Name ScheduledPayment: #REF!
Name TotalEarlyPayments: #REF!
Name TotalInterest: #REF!

Sheet Model Assumptions
A1: Model Assumptions
A6: BKFC
A7: Revenue Share
B8: Licensor | D8: 0.25
B9: Stars/Sales | D9: 0.2
B10: Inside Card | D10: 0.45
B11: Sponsorships | D11: 0.45
B12: Services | D12: 0.6
A13: Cards
B14: Wholesale Revenue - Hobby | D14: 0.6
B15: Wholesale Revenue - Retail | D15: 0.5
B16: Card Cost - Root | D16: 0.4
B17: Card Cost - Forge | D17: 0.45
B18: Card Cost - Ascend | D18: 0.5
B19: Allowance (unsold/damaged) | D19: 0.05
B20: Freight/Fulfillment | D20: 0.01
B21: Printing & Packaging Costs | D21: 0.5
A24: Skybound (Inincible)
A25: Revenue Share
B26: Skybound | D26: 0.13
B27: Stars/Sales | D27: 0
A29: Cards
B30: Wholesale Revenue - Hobby | D30: 0.6
B31: Wholesale Revenue - Retail | D31: 0.5
B32: Allowance (unsold/damaged) | D32: 0.05
B33: Freight/Fulfillment | D33: 0.01
B34: Printing & Packaging Costs | D34: 0.4
A37: One-Offs
A38: Cards
B39: Wholesale vs. MSRP | D39: 0.55
B40: Card Cost (Blended Rate) | D40: 0.45
B41: Freight/Fulfillment | D41: 0.008
A44: Pipeline Estimated Customer Rollout
A45: Year | C45: Test | D45: Small | E45: Medium | F45: Large
A46: 2026 | C46: 2 | D46: 0 | E46: 0 | F46: 0
A47: 2027 | C47: 4 | D47: 3 | E47: 2 | F47: 0
A48: 2028 | C48: 6 | D48: 4 | E48: 4 | F48: 1
A49: 2029 | C49: 8 | D49: 9 | E49: 6 | F49: 2
A50: 2030 | C50: 10 | D50: 15 | E50: 8 | F50: 3

Sheet Assumptions
A1: All-Stars Forecasting Model
A2: Assumptions Used in Cash Flow Projections
A3: 5-Year
A6: Leagues
G7: Gross Revenue | I7: Net Revenue | K7: League Rev Share | M7: Fighter Rev Share
A8: Year 1 - 3 releases 5 products | C8: 3000000 | E8: 5 | G8: =E8*C8 -> 15000000 | I8: =0.35*G8 -> 5250000 | K8: =0.25*I8 -> 1312500 | M8: =0.2*I8 -> 1050000
A9: Year 2 - 4 releases 7 products | C9: 3000000 | E9: 7 | G9: =E9*C9 -> 21000000 | I9: =0.35*G9 -> 7350000 | K9: =0.25*I9 -> 1837500 | M9: =0.2*I9 -> 1470000
A10: Year 3 - 6 releases 9 products | C10: 3000000 | E10: 9 | G10: =E10*C10 -> 27000000 | I10: =0.35*G10 -> 9450000 | K10: =0.25*I10 -> 2362500 | M10: =0.2*I10 -> 1890000
A11: Year 4 - 8 releases 12 products | C11: 3000000 | E11: 12 | G11: =E11*C11 -> 36000000 | I11: =0.35*G11 -> 12600000 | K11: =0.25*I11 -> 3150000 | M11: =0.2*I11 -> 2520000
A12: Year 5 - 10 releases 15 products | C12: 3000000 | E12: 15 | G12: =E12*C12 -> 45000000 | I12: =0.35*G12 -> 15750000 | K12: =0.25*I12 -> 3937500 | M12: =0.2*I12 -> 3150000
A13: TOTAL - 5 Years | G13: =SUM(G8:G12) -> 144000000 | I13: =0.35*G13 -> 50400000 | K13: =0.25*I13 -> 12600000 | M13: =0.2*I13 -> 10080000
A15: Leagues
G20: GOT | I20: 200 box
A22: One Time
E23: 100 card set - 350k boxes Marvel - 20 box case | N23: =8000/20 -> 400
E24: =350000/20 -> 17500 | G24: Cases
E25: 200 | G25: MSRP
E26: =0.65*E25 -> 130 | G26: Wholesale
E27: Revenue | G27: COGS | I27: Margin | N27: License | O27: YAAS Net
A28: Large | C28: 350000 | E28: =C28*$E$26 -> 45500000 | G28: =E28*0.65 -> 29575000 | I28: =E28-G28 -> 15925000 | N28: 0.4 | O28: =I28*(1-N28) -> 9555000
A29: Medium | C29: 100000 | E29: =C29*$E$26 -> 13000000 | G29: =E29*0.65 -> 8450000 | I29: =E29-G29 -> 4550000 | N29: 0.3 | O29: =I29*(1-N29) -> 3185000
A30: Small | C30: 50000 | E30: =C30*$E$26 -> 6500000 | G30: =E30*0.65 -> 4225000 | I30: =E30-G30 -> 2275000 | N30: 0.25 | O30: =I30*(1-N30) -> 1706250
A31: Test | C31: 5000 | E31: =C31*$E$26 -> 650000 | G31: =E31*0.65 -> 422500 | I31: =E31-G31 -> 227500 | N31: 0.2 | O31: =I31*(1-N31) -> 182000
C33: BKFC | E33: march 2026 1st release | I33: Release every 3 months
C34: PFL | E34: october 2026 1st release | I34: Release every 3 months
A37: Test and Small for next couple of years
A38: 2026 | C38: 8 tests, 2 smalls
A39: 2027 | C39: 1 medium, 10 tests, 4 smalls
A40: 2028 | C40: 1 large, 3 medium, 6 smalls, 16 tests
A43: Services/Inside Card - grow 50% YOY
A44: Sponsorships - grow 100% YOY

Sheet Org Chart
C4: Investors | I4: Founders
D7: 0.2 | J7: 0.8
C12: Media All-Stars | I12: Collectible All-Stars

Sheet P&L - 1 Year
A1: YAAS
A2: 12 Month Forecast | G2: Release 1A | J2: Release 2A | M2: Release 3A
C3: 45823 | D3: =C3+30 -> 45853 | E3: =D3+30 -> 45883 | F3: =E3+30 -> 45913 | G3: =F3+30 -> 45943 | H3: =G3+30 -> 45973 | I3: =H3+30 -> 46003 | J3: =I3+30 -> 46033 | K3: =J3+30 -> 46063 | ... N3: =M3+30 -> 46153
C4: Month 1 | D4: Month 2 | E4: Month 3 | F4: Month 4 | G4: Month 5 | H4: Month 6 | I4: Month 7 | J4: Month 8 | K4: Month 9 | L4: Month 10 | M4: Month 11 | N4: Month 12 | O4: 1Q | P4: 2Q | Q4: 3Q | R4: 4Q | S4: Year 1 Total
B5: Revenue
B6: Physical Card Revenue (wholesale) | C6: 0 | D6: 0 | E6: 0 | F6: 0 | G6: =('Jeremy Model'!D23+'Jeremy Model'!D42) -> 5460000 | H6: 0 | I6: =H6 -> 0 | J6: =('Jeremy Model'!I23+'Jeremy Model'!I42) -> 8970000 | K6: 0 | L6: 0 | M6: ='Jeremy Model'!N23 -> 650000 | N6: 0 | O6: =SUM(C6:E6) -> 0 | P6: =SUM(F6:H6) -> 5460000 | Q6: =SUM(I6:K6) -> 8970000 | R6: =SUM(L6:N6) -> 650000 | S6: =SUM(C6:N6) -> 15080000
B7: Inside Card Revenue | C7: 0 | D7: 0 | E7: 0 | F7: 0 | G7: =10000+F7 -> 10000 | H7: =10000+G7 -> 20000 | I7: =10000+H7 -> 30000 | J7: =10000+I7 -> 40000 | K7: =10000+J7 -> 50000 | L7: =10000+K7 -> 60000 | M7: =10000+L7 -> 70000 | N7: =10000+M7 -> 80000 | O7: =SUM(C7:E7) -> 0 | P7: =SUM(F7:H7) -> 30000 | Q7: =SUM(I7:K7) -> 120000 | R7: =SUM(L7:N7) -> 210000 | S7: =SUM(C7:N7) -> 360000
B8: Sponsorship Revenue | C8: 0 | D8: 0 | E8: 0 | F8: 0 | G8: 25000 | H8: =G8 -> 25000 | I8: =H8 -> 25000 | J8: =I8 -> 25000 | K8: =J8 -> 25000 | L8: =K8 -> 25000 | M8: =L8 -> 25000 | N8: =M8 -> 25000 | O8: =SUM(C8:E8) -> 0 | P8: =SUM(F8:H8) -> 50000 | Q8: =SUM(I8:K8) -> 75000 | R8: =SUM(L8:N8) -> 75000 | S8: =SUM(C8:N8) -> 200000
B9: Services Revenue | C9: 0 | D9: 0 | E9: 0 | F9: 0 | G9: =5000+F9 -> 5000 | H9: =5000+G9 -> 10000 | I9: =5000+H9 -> 15000 | J9: =5000+I9 -> 20000 | K9: =5000+J9 -> 25000 | L9: =5000+K9 -> 30000 | M9: =5000+L9 -> 35000 | N9: =5000+M9 -> 40000 | O9: =SUM(C9:E9) -> 0 | P9: =SUM(F9:H9) -> 15000 | Q9: =SUM(I9:K9) -> 60000 | R9: =SUM(L9:N9) -> 105000 | S9: =SUM(C9:N9) -> 180000
B10: Total Revenue | C10: =SUM(C6:C9) -> 0 | D10: =SUM(D6:D9) -> 0 | E10: =SUM(E6:E9) -> 0 | F10: =SUM(F6:F9) -> 0 | G10: =SUM(G6:G9) -> 5500000 | H10: =SUM(H6:H9) -> 55000 | I10: =SUM(I6:I9) -> 70000 | J10: =SUM(J6:J9) -> 9055000 | ... S10: =SUM(S6:S9) -> 15820000
B12: Cost of Goods Sold
A13: Cost of Goods Sold
B14: Cards & Packaging | E14: =('Jeremy Model'!C23+'Jeremy Model'!C42)/2 -> 1774500 | F14: =E14 -> 1774500 | H14: =('Jeremy Model'!H23+'Jeremy Model'!H42)/2 -> 2915250 | I14: =H14 -> 2915250 | J14: 0 | K14: ='Jeremy Model'!M23/2 -> 211250 | L14: =K14 -> 211250 | M14: 0 | N14: =M14 -> 0 | O14: =SUM(C14:E14) -> 1774500 | P14: =SUM(F14:H14) -> 4689750 | Q14: =SUM(I14:K14) -> 3126500 | R14: =SUM(L14:N14) -> 211250 | S14: =SUM(C14:N14) -> 9802000
B15: Freight & Fulfillment | C15: 0 | D15: =C15 -> 0 | E15: =D15 -> 0 | F15: =SUM('Jeremy Model'!E51:E52) -> 54000 | G15: 0 | H15: =G15 -> 0 | I15: =SUM('Jeremy Model'!J51:J52) -> 45000 | J15: 0 | K15: =J15 -> 0 | L15: ='Jeremy Model'!O51 -> 4500 | M15: =L15 -> 4500 | N15: =M15 -> 4500 | O15: =SUM(C15:E15) -> 0 | P15: =SUM(F15:H15) -> 54000 | Q15: =SUM(I15:K15) -> 45000 | R15: =SUM(L15:N15) -> 13500 | S15: =SUM(C15:N15) -> 112500
B16: Total COGS | C16: =SUM(C14:C15) -> 0 | D16: =SUM(D14:D15) -> 0 | E16: =SUM(E14:E15) -> 1774500 | F16: =SUM(F14:F15) -> 1828500 | G16: =SUM(G14:G15) -> 0 | H16: =SUM(H14:H15) -> 2915250 | I16: =SUM(I14:I15) -> 2960250 | J16: =SUM(J14:J15) -> 0 | ... S16: =SUM(S14:S15) -> 9914500
A17: Note: Reflects card/packaging costs 2 months prior to release with costs split across two months
B18: League & Fighter Rev Share
A19: Rev Share
B20: Ph. Card BKFC/Fighter Rev Share | C20: =(C6-C16)*'Jeremy Model'!$V$15 -> 0 | D20: =(D6-D16)*'Jeremy Model'!$V$15 -> 0 | E20: =(E6-E16)*'Jeremy Model'!$V$15 -> -798525 | F20: =(F6-F16)*'Jeremy Model'!$V$15 -> -822825 | G20: =(G6-G16)*'Jeremy Model'!$V$15 -> 2457000 | H20: =(H6-H16)*'Jeremy Model'!$V$15 -> -1311862.5 | I20: =(I6-I16)*'Jeremy Model'!$V$15 -> -1332112.5 | J20: =(J6-J16)*'Jeremy Model'!$V$15 -> 4036500 | ... N20: =(N6-N16)*'Jeremy Model'!$V$15 -> -2025 | S20: =SUM(C20:N20) -> 2324475
B21: Inside Card BKFC/Fighter Rev Share | C21: =C7*'Jeremy Model'!$V$16 -> 0 | D21: =D7*'Jeremy Model'!$V$16 -> 0 | E21: =E7*'Jeremy Model'!$V$16 -> 0 | F21: =F7*'Jeremy Model'!$V$16 -> 0 | G21: =G7*'Jeremy Model'!$V$16 -> 4500 | H21: =H7*'Jeremy Model'!$V$16 -> 9000 | I21: =I7*'Jeremy Model'!$V$16 -> 13500 | J21: =J7*'Jeremy Model'!$V$16 -> 18000 | ... N21: =N7*'Jeremy Model'!$V$16 -> 36000 | S21: =SUM(G21:N21) -> 162000
B22: Sponsorship BKFC/Fighter Rev Share | C22: =C8*'Jeremy Model'!$V$17 -> 0 | D22: =D8*'Jeremy Model'!$V$17 -> 0 | E22: =E8*'Jeremy Model'!$V$17 -> 0 | F22: =F8*'Jeremy Model'!$V$17 -> 0 | G22: =G8*'Jeremy Model'!$V$17 -> 11250 | H22: =H8*'Jeremy Model'!$V$17 -> 11250 | I22: =I8*'Jeremy Model'!$V$17 -> 11250 | J22: =J8*'Jeremy Model'!$V$17 -> 11250 | ... N22: =N8*'Jeremy Model'!$V$17 -> 11250 | S22: =SUM(G22:N22) -> 90000
B23: Services BKFC/Fighter Rev Share | C23: =C9*'Jeremy Model'!$V$18 -> 0 | D23: =D9*'Jeremy Model'!$V$18 -> 0 | E23: =E9*'Jeremy Model'!$V$18 -> 0 | F23: =F9*'Jeremy Model'!$V$18 -> 0 | G23: =G9*'Jeremy Model'!$V$18 -> 3000 | H23: =H9*'Jeremy Model'!$V$18 -> 6000 | I23: =I9*'Jeremy Model'!$V$18 -> 9000 | J23: =J9*'Jeremy Model'!$V$18 -> 12000 | ... N23: =N9*'Jeremy Model'!$V$18 -> 24000 | S23: =SUM(C23:N23) -> 108000
B24: League & Fighter Rev Share | C24: =SUM(C20:C23) -> 0 | D24: =SUM(D20:D23) -> 0 | E24: =SUM(E20:E23) -> -798525 | F24: =SUM(F20:F23) -> -822825 | G24: =SUM(G20:G23) -> 2475750 | H24: =SUM(H20:H23) -> -1285612.5 | I24: =SUM(I20:I23) -> -1298362.5 | J24: =SUM(J20:J23) -> 4077750 | ... N24: =SUM(N20:N23) -> 69225 | S24: =SUM(S20:S23) -> 2684475
B26: League & Fighter Rev Share
A27: Rev Share
B28: Physical Card BKFC/Fighter Rev Share | C28: 0 | D28: 0 | E28: 0 | F28: 0 | G28: 0 | H28: =SUM(C20:G20) -> 835650 | I28: 0 | J28: 0 | K28: =SUM(H20:J20) -> 1392525 | L28: 0 | M28: 0 | N28: =SUM(K20:M20) -> 98325 | O28: =SUM(C28:E28) -> 0 | P28: =SUM(F28:H28) -> 835650 | Q28: =SUM(I28:K28) -> 1392525 | R28: =SUM(L28:N28) -> 98325 | S28: =SUM(A28:N28) -> 2326500
B29: Inside Card BKFC/Fighter Rev Share | C29: 0 | D29: 0 | E29: 0 | F29: 0 | G29: 0 | H29: =G21 -> 4500 | I29: =H21 -> 9000 | J29: =I21 -> 13500 | K29: =J21 -> 18000 | L29: =K21 -> 22500 | M29: =L21 -> 27000 | N29: =M21 -> 31500 | O29: =SUM(C29:E29) -> 0 | P29: =SUM(F29:H29) -> 4500 | Q29: =SUM(I29:K29) -> 40500 | R29: =SUM(L29:N29) -> 81000 | S29: =SUM(G29:N29) -> 126000
B30: Sponsorship BKFC/Fighter Rev Share | C30: 0 | D30: 0 | E30: 0 | F30: 0 | G30: 0 | H30: =G22 -> 11250 | I30: =H22 -> 11250 | J30: =I22 -> 11250 | K30: =J22 -> 11250 | L30: =K22 -> 11250 | M30: =L22 -> 11250 | N30: =M22 -> 11250 | O30: =SUM(C30:E30) -> 0 | P30: =SUM(F30:H30) -> 11250 | Q30: =SUM(I30:K30) -> 33750 | R30: =SUM(L30:N30) -> 33750 | S30: =SUM(G30:N30) -> 78750
B31: Services BKFC/Fighter Rev Share | C31: 0 | D31: 0 | E31: 0 | F31: 0 | G31: 0 | H31: =G23 -> 3000 | I31: =H23 -> 6000 | J31: =I23 -> 9000 | K31: =J23 -> 12000 | L31: =K23 -> 15000 | M31: =L23 -> 18000 | N31: =M23 -> 21000 | O31: =SUM(C31:E31) -> 0 | P31: =SUM(F31:H31) -> 3000 | Q31: =SUM(I31:K31) -> 27000 | R31: =SUM(L31:N31) -> 54000 | S31: =SUM(C31:N31) -> 84000
B32: League & Fighter Rev Share | C32: =SUM(C28:C31) -> 0 | D32: =SUM(D28:D31) -> 0 | E32: =SUM(E28:E31) -> 0 | F32: =SUM(F28:F31) -> 0 | G32: =SUM(G28:G31) -> 0 | H32: =SUM(H28:H31) -> 854400 | I32: =SUM(I28:I31) -> 26250 | J32: =SUM(J28:J31) -> 33750 | ... S32: =SUM(S28:S31) -> 2615250
A33: Note: Rev share for Physical Cards is reflected the month following the Release, all other the month after Revenue is realized
B34: Gross Margin
B35: Gross Margin | C35: =C10-C16-C32 -> 0 | D35: =D10-D16-D32 -> 0 | E35: =E10-E16-E32 -> -1774500 | F35: =F10-F16-F32 -> -1828500 | G35: =G10-G16-G32 -> 5500000 | H35: =H10-H16-H32 -> -3714650 | I35: =I10-I16-I32 -> -2916500 | J35: =J10-J16-J32 -> 9021250 | ... N35: =N10-N16-N32 -> -21575 | O35: =SUM(C35:E35) -> -1774500 | P35: =SUM(F35:H35) -> -43150 | Q35: =SUM(I35:K35) -> 4559725 | R35: =SUM(L35:N35) -> 548175 | S35: =SUM(C35:N35) -> 3290250
B36: Total Gross Margin | C36: =SUM(C35) -> 0 | D36: =SUM(D35) -> 0 | E36: =SUM(E35) -> -1774500 | F36: =SUM(F35) -> -1828500 | G36: =SUM(G35) -> 5500000 | H36: =SUM(H35) -> -3714650 | I36: =SUM(I35) -> -2916500 | J36: =SUM(J35) -> 9021250 | ... S36: =SUM(S35) -> 3290250
B38: Operational Expenses
A39: Salaries & Contractors
B40: Salaries | C40: =#REF! -> #REF! | D40: =#REF! -> #REF! | E40: =#REF! -> #REF! | F40: =#REF! -> #REF! | G40: =#REF! -> #REF! | H40: =#REF! -> #REF! | I40: =#REF! -> #REF! | J40: =#REF! -> #REF! | ... N40: =#REF! -> #REF! | O40: =SUM(C40:E40) -> #REF! | P40: =SUM(F40:H40) -> #REF! | Q40: =SUM(I40:K40) -> #REF! | R40: =SUM(L40:N40) -> #REF! | S40: =SUM(C40:N40) -> #REF!
B41: Payroll Taxes | C41: =C40*0.1 -> #REF! | D41: =D40*0.1 -> #REF! | E41: =E40*0.1 -> #REF! | F41: =F40*0.1 -> #REF! | G41: =G40*0.1 -> #REF! | H41: =H40*0.1 -> #REF! | I41: =I40*0.1 -> #REF! | J41: =J40*0.1 -> #REF! | ... N41: =N40*0.1 -> #REF! | O41: =SUM(C41:E41) -> #REF! | P41: =SUM(F41:H41) -> #REF! | Q41: =SUM(I41:K41) -> #REF! | R41: =SUM(L41:N41) -> #REF! | S41: =SUM(C41:N41) -> #REF!
B42: Benefits (Health, Dental, 401K, etc.) | C42: =C40*0.1 -> #REF! | D42: =D40*0.1 -> #REF! | E42: =E40*0.1 -> #REF! | F42: =F40*0.1 -> #REF! | G42: =G40*0.1 -> #REF! | H42: =H40*0.1 -> #REF! | I42: =I40*0.1 -> #REF! | J42: =J40*0.1 -> #REF! | ... N42: =N40*0.1 -> #REF! | O42: =SUM(C42:E42) -> #REF! | P42: =SUM(F42:H42) -> #REF! | Q42: =SUM(I42:K42) -> #REF! | R42: =SUM(L42:N42) -> #REF! | S42: =SUM(C42:N42) -> #REF!
B43: Contractors/Other | C43: =#REF! -> #REF! | D43: =#REF! -> #REF! | E43: =#REF! -> #REF! | F43: =#REF! -> #REF! | G43: =#REF! -> #REF! | H43: =#REF! -> #REF! | I43: =#REF! -> #REF! | J43: =#REF! -> #REF! | ... N43: =#REF! -> #REF! | O43: =SUM(C43:E43) -> #REF! | P43: =SUM(F43:H43) -> #REF! | Q43: =SUM(I43:K43) -> #REF! | R43: =SUM(L43:N43) -> #REF! | S43: =SUM(C43:N43) -> #REF!
...

Sheet P&L - 5 year
A1: YAAS
A2: 60 Month Forecast
D3: 46037 | E3: =D3+30 -> 46067 | F3: =E3+31 -> 46098 | G3: =F3+30 -> 46128 | H3: =G3+31 -> 46159 | I3: =H3+30 -> 46189 | J3: =I3+31 -> 46220 | K3: =J3+31 -> 46251 | L3: =K3+30 -> 46281 | M3: =L3+31 -> 46312 | N3: =M3+31 -> 46343 | O3: =N3+31 -> 46374 | Q3: =O3+31 -> 46405 | R3: =Q3+30 -> 46435 | S3: =R3+31 -> 46466 | T3: =S3+30 -> 46496 | U3: =T3+31 -> 46527 | V3: =U3+30 -> 46557 | W3: =V3+31 -> 46588 | X3: =W3+31 -> 46619 | Y3: =X3+30 -> 46649 | Z3: =Y3+31 -> 46680 | AA3: =Z3+31 -> 46711 | AB3: =AA3+31 -> 46742 | AD3: =AB3+31 -> 46773 | AE3: =AD3+30 -> 46803 | AF3: =AE3+31 -> 46834 | AG3: =AF3+30 -> 46864 | AH3: =AG3+31 -> 46895 | AI3: =AH3+30 -> 46925 | AJ3: =AI3+31 -> 46956 | AK3: =AJ3+31 -> 46987 | AL3: =AK3+30 -> 47017 | AM3: =AL3+31 -> 47048 | AN3: =AM3+31 -> 47079 | AO3: =AN3+31 -> 47110 | AQ3: =AO3+31 -> 47141 | AR3: =AQ3+30 -> 47171 | AS3: =AR3+31 -> 47202 | AT3: =AS3+30 -> 47232 | AU3: =AT3+31 -> 47263 | AV3: =AU3+30 -> 47293 | AW3: =AV3+31 -> 47324 | AX3: =AW3+31 -> 47355 | AY3: =AX3+30 -> 47385 | AZ3: =AY3+31 -> 47416 | BA3: =AZ3+31 -> 47447 | BB3: =BA3+31 -> 47478 | BD3: =BB3+31 -> 47509 | BE3: =BD3+30 -> 47539 | BF3: =BE3+31 -> 47570 | BG3: =BF3+30 -> 47600 | BH3: =BG3+31 -> 47631 | BI3: =BH3+30 -> 47661 | BJ3: =BI3+31 -> 47692 | BK3: =BJ3+31 -> 47723 | BL3: =BK3+30 -> 47753 | BM3: =BL3+31 -> 47784 | BN3: =BM3+31 -> 47815 | BO3: =BN3+31 -> 47846
D4: Month 1 | E4: Month 2 | F4: Month 3 | G4: Month 4 | H4: Month 5 | I4: Month 6 | J4: Month 7 | K4: Month 8 | L4: Month 9 | M4: Month 10 | N4: Month 11 | O4: Month 12 | P4: Year 1 Total | Q4: Month 13 | R4: Month 14 | S4: Month 15 | T4: Month 16 | U4: Month 17 | V4: Month 18 | W4: Month 19 | X4: Month 20 | Y4: Month 21 | Z4: Month 22 | AA4: Month 23 | AB4: Month 24 | AC4: Year 2 Total | AD4: Month 25 | AE4: Month 26 | AF4: Month 27 | AG4: Month 28 | AH4: Month 29 | AI4: Month 30 | AJ4: Month 31 | AK4: Month 32 | AL4: Month 33 | AM4: Month 34 | AN4: Month 35 | AO4: Month 36 | AP4: Year 3 Total | AQ4: Month 37 | AR4: Month 38 | AS4: Month 39 | AT4: Month 40 | AU4: Month 41 | AV4: Month 42 | AW4: Month 43 | AX4: Month 44 | AY4: Month 45 | AZ4: Month 46 | BA4: Month 47 | BB4: Month 48 | BC4: Year 4 Total | BD4: Month 49 | BE4: Month 50 | BF4: Month 51 | BG4: Month 52 | BH4: Month 53 | BI4: Month 54 | BJ4: Month 55 | BK4: Month 56 | BL4: Month 57 | BM4: Month 58 | BN4: Month 59 | BO4: Month 60 | BP4: Year 5 Total | BQ4: Lifetime Total
B5: Revenue
A6: Contract Signed
B7: Card Revenue - BKFC | D7: =BKFC!C98 -> 0 | E7: =BKFC!D98 -> 0 | F7: =BKFC!E98 -> 0 | G7: =BKFC!F98 -> 0 | H7: =BKFC!G98 -> 0 | I7: =BKFC!H98 -> 0 | J7: =BKFC!I98 -> 0 | K7: =BKFC!J98 -> 0 | ... O7: =BKFC!N98 -> 1479311.5 | P7: =SUM(D7:O7) -> 1479311.5 | Q7: =BKFC!P98 -> 1479311.5 | R7: =BKFC!Q98 -> 4583236.5 | S7: =BKFC!R98 -> 4583236.5 | T7: =BKFC!S98 -> 284995.25 | U7: =BKFC!T98 -> 284995.25 | V7: =BKFC!U98 -> 0 | W7: =BKFC!V98 -> 1931912.9 | X7: =BKFC!W98 -> 1931912.9 | ... AB7: =BKFC!AA98 -> 0 | AC7: =SUM(Q7:AB7) -> 27665784 | AD7: =BKFC!AC98 -> 284995.25 | AE7: =BKFC!AD98 -> 284995.25 | AF7: =BKFC!AE98 -> 0 | AG7: =BKFC!AF98 -> 0 | AH7: =BKFC!AG98 -> 0 | AI7: =BKFC!AH98 -> 0 | AJ7: =BKFC!AI98 -> 5703149.2 | AK7: =BKFC!AJ98 -> 0 | ... AO7: =BKFC!AN98 -> 0 | AP7: =SUM(AD7:AO7) -> 23722653 | AQ7: =BKFC!AP98 -> 797986.7 | AR7: =BKFC!AQ98 -> 0 | AS7: =BKFC!AR98 -> 0 | AT7: =BKFC!AS98 -> 0 | AU7: =BKFC!AT98 -> 0 | AV7: =BKFC!AU98 -> 0 | AW7: =BKFC!AV98 -> 6959790.2 | AX7: =BKFC!AW98 -> 0 | ... BB7: =BKFC!BA98 -> 0 | BC7: =SUM(AQ7:BB7) -> 28275344 | BD7: =BKFC!BC98 -> 1139981 | BE7: =BKFC!BD98 -> 0 | BF7: =BKFC!BE98 -> 0 | BG7: =BKFC!BF98 -> 0 | BH7: =BKFC!BG98 -> 0 | BI7: =BKFC!BH98 -> 0 | BJ7: =BKFC!BI98 -> 8216431.2 | BK7: =BKFC!BJ98 -> 0 | ... BO7: =BKFC!BN98 -> 1424976.2 | BP7: =SUM(BD7:BO7) -> 36076943 | BQ7: =P7+AC7+AP7+BC7+BP7 -> 1.1722004e+08
A8: Proposal Verbally Accepted
B9: Card Revenue - Ted Animated Series | D9: =Ted!C98 -> 0 | E9: =Ted!D98 -> 0 | F9: =Ted!E98 -> 0 | G9: =Ted!F98 -> 0 | H9: =Ted!G98 -> 0 | I9: =Ted!H98 -> 0 | J9: =Ted!I98 -> 0 | K9: =Ted!J98 -> 0 | ... O9: =Ted!N98 -> 0 | P9: =SUM(D9:O9) -> 0 | Q9: =Ted!P98 -> 0 | R9: =Ted!Q98 -> 0 | S9: =Ted!R98 -> 0 | T9: =Ted!S98 -> 0 | U9: =Ted!T98 -> 0 | V9: =Ted!U98 -> 0 | W9: =Ted!V98 -> 2258473 | X9: =Ted!W98 -> 0 | ... AB9: =Ted!AA98 -> 0 | AC9: =SUM(Q9:AB9) -> 2258473 | AD9: =Ted!AC98 -> 0 | AE9: =Ted!AD98 -> 0 | AF9: =Ted!AE98 -> 0 | AG9: =Ted!AF98 -> 0 | AH9: =Ted!AG98 -> 0 | AI9: =Ted!AH98 -> 0 | AJ9: =Ted!AI98 -> 3239286.2 | AK9: =Ted!AJ98 -> 0 | ... AO9: =Ted!AN98 -> 0 | AP9: =SUM(AD9:AO9) -> 3239286.2 | AQ9: =Ted!AP98 -> 0 | AR9: =Ted!AQ98 -> 0 | AS9: =Ted!AR98 -> 0 | AT9: =Ted!AS98 -> 0 | AU9: =Ted!AT98 -> 0 | AV9: =Ted!AU98 -> 0 | AW9: =Ted!AV98 -> 4220099.5 | AX9: =Ted!AW98 -> 0 | ... BB9: =Ted!BA98 -> 0 | BC9: =SUM(AQ9:BB9) -> 4220099.5 | BD9: =Ted!BC98 -> 0 | BE9: =Ted!BD98 -> 0 | BF9: =Ted!BE98 -> 0 | BG9: =Ted!BF98 -> 0 | BH9: =Ted!BG98 -> 0 | BI9: =Ted!BH98 -> 0 | BJ9: =Ted!BI98 -> 5200912.8 | BK9: =Ted!BJ98 -> 0 | ... BO9: =Ted!BN98 -> 0 | BP9: =SUM(BD9:BO9) -> 5200912.8 | BQ9: =P9+AC9+AP9+BC9+BP9 -> 14918772
B10: Card Revenue - CareBears | D10: =CareBears!C98 -> 0 | E10: =CareBears!D98 -> 0 | F10: =CareBears!E98 -> 0 | G10: =CareBears!F98 -> 0 | H10: =CareBears!G98 -> 0 | I10: =CareBears!H98 -> 0 | J10: =CareBears!I98 -> 0 | K10: =CareBears!J98 -> 0 | ... O10: =CareBears!N98 -> 0 | P10: =SUM(D10:O10) -> 0 | Q10: =CareBears!P98 -> 0 | R10: =CareBears!Q98 -> 0 | S10: =CareBears!R98 -> 0 | T10: =CareBears!S98 -> 845253 | U10: =CareBears!T98 -> 0 | V10: =CareBears!U98 -> 0 | W10: =CareBears!V98 -> 0 | X10: =CareBears!W98 -> 0 | ... AB10: =CareBears!AA98 -> 0 | AC10: =SUM(Q10:AB10) -> 2797099.2 | AD10: =CareBears!AC98 -> 0 | AE10: =CareBears!AD98 -> 0 | AF10: =CareBears!AE98 -> 0 | AG10: =CareBears!AF98 -> 999235.65 | AH10: =CareBears!AG98 -> 0 | AI10: =CareBears!AH98 -> 0 | AJ10: =CareBears!AI98 -> 0 | AK10: =CareBears!AJ98 -> 0 | ... AO10: =CareBears!AN98 -> 0 | AP10: =SUM(AD10:AO10) -> 1998471.3 | AQ10: =CareBears!AP98 -> 0 | AR10: =CareBears!AQ98 -> 0 | AS10: =CareBears!AR98 -> 0 | AT10: =CareBears!AS98 -> 1046818.3 | AU10: =CareBears!AT98 -> 0 | AV10: =CareBears!AU98 -> 0 | AW10: =CareBears!AV98 -> 0 | AX10: =CareBears!AW98 -> 0 | ... BB10: =CareBears!BA98 -> 0 | BC10: =SUM(AQ10:BB10) -> 2093636.6 | BD10: =CareBears!BC98 -> 0 | BE10: =CareBears!BD98 -> 0 | BF10: =CareBears!BE98 -> 0 | BG10: =CareBears!BF98 -> 0 | BH10: =CareBears!BG98 -> 0 | BI10: =CareBears!BH98 -> 0 | BJ10: =CareBears!BI98 -> 0 | BK10: =CareBears!BJ98 -> 0 | ... BO10: =CareBears!BN98 -> 0 | BP10: =SUM(BD10:BO10) -> 0 | BQ10: =P10+AC10+AP10+BC10+BP10 -> 6889207.2
B11: Card Revenue - Blumhouse | D11: =Blumhouse!C98 -> 0 | E11: =Blumhouse!D98 -> 0 | F11: =Blumhouse!E98 -> 0 | G11: =Blumhouse!F98 -> 0 | H11: =Blumhouse!G98 -> 0 | I11: =Blumhouse!H98 -> 0 | J11: =Blumhouse!I98 -> 0 | K11: =Blumhouse!J98 -> 0 | ... O11: =Blumhouse!N98 -> 0 | P11: =SUM(D11:O11) -> 0 | Q11: =Blumhouse!P98 -> 0 | R11: =Blumhouse!Q98 -> 0 | S11: =Blumhouse!R98 -> 0 | T11: =Blumhouse!S98 -> 0 | U11: =Blumhouse!T98 -> 0 | V11: =Blumhouse!U98 -> 0 | W11: =Blumhouse!V98 -> 1382041 | X11: =Blumhouse!W98 -> 0 | ... AB11: =Blumhouse!AA98 -> 0 | AC11: =SUM(Q11:AB11) -> 1382041 | AD11: =Blumhouse!AC98 -> 0 | AE11: =Blumhouse!AD98 -> 0 | AF11: =Blumhouse!AE98 -> 0 | AG11: =Blumhouse!AF98 -> 0 | AH11: =Blumhouse!AG98 -> 0 | AI11: =Blumhouse!AH98 -> 0 | AJ11: =Blumhouse!AI98 -> 1058151.8 | AK11: =Blumhouse!AJ98 -> 0 | ... AO11: =Blumhouse!AN98 -> 0 | AP11: =SUM(AD11:AO11) -> 1058151.8 | AQ11: =Blumhouse!AP98 -> 0 | AR11: =Blumhouse!AQ98 -> 0 | AS11: =Blumhouse!AR98 -> 0 | AT11: =Blumhouse!AS98 -> 0 | AU11: =Blumhouse!AT98 -> 0 | AV11: =Blumhouse!AU98 -> 0 | AW11: =Blumhouse!AV98 -> 1058151.8 | AX11: =Blumhouse!AW98 -> 0 | ... BB11: =Blumhouse!BA98 -> 0 | BC11: =SUM(AQ11:BB11) -> 1058151.8 | BD11: =Blumhouse!BC98 -> 0 | BE11: =Blumhouse!BD98 -> 0 | BF11: =Blumhouse!BE98 -> 0 | BG11: =Blumhouse!BF98 -> 0 | BH11: =Blumhouse!BG98 -> 0 | BI11: =Blumhouse!BH98 -> 0 | BJ11: =Blumhouse!BI98 -> 1058151.8 | BK11: =Blumhouse!BJ98 -> 0 | ... BO11: =Blumhouse!BN98 -> 0 | BP11: =SUM(BD11:BO11) -> 1058151.8 | BQ11: =P11+AC11+AP11+BC11+BP11 -> 4556496.4
B12: Card Revenue - Tatsunoko | D12: =Tatsunoko!C98 -> 0 | E12: =Tatsunoko!D98 -> 0 | F12: =Tatsunoko!E98 -> 0 | G12: =Tatsunoko!F98 -> 0 | H12: =Tatsunoko!G98 -> 0 | I12: =Tatsunoko!H98 -> 0 | J12: =Tatsunoko!I98 -> 0 | K12: =Tatsunoko!J98 -> 0 | ... O12: =Tatsunoko!N98 -> 0 | P12: =SUM(D12:O12) -> 0 | Q12: =Tatsunoko!P98 -> 0 | R12: =Tatsunoko!Q98 -> 0 | S12: =Tatsunoko!R98 -> 0 | T12: =Tatsunoko!S98 -> 0 | U12: =Tatsunoko!T98 -> 0 | V12: =Tatsunoko!U98 -> 0 | W12: =Tatsunoko!V98 -> 1587227.7 | X12: =Tatsunoko!W98 -> 0 | ... AB12: =Tatsunoko!AA98 -> 0 | AC12: =SUM(Q12:AB12) -> 1587227.7 | AD12: =Tatsunoko!AC98 -> 0 | AE12: =Tatsunoko!AD98 -> 0 | AF12: =Tatsunoko!AE98 -> 0 | AG12: =Tatsunoko!AF98 -> 0 | AH12: =Tatsunoko!AG98 -> 0 | AI12: =Tatsunoko!AH98 -> 0 | AJ12: =Tatsunoko!AI98 -> 1058151.8 | AK12: =Tatsunoko!AJ98 -> 0 | ... AO12: =Tatsunoko!AN98 -> 0 | AP12: =SUM(AD12:AO12) -> 1058151.8 | AQ12: =Tatsunoko!AP98 -> 0 | AR12: =Tatsunoko!AQ98 -> 0 | AS12: =Tatsunoko!AR98 -> 0 | AT12: =Tatsunoko!AS98 -> 0 | AU12: =Tatsunoko!AT98 -> 0 | AV12: =Tatsunoko!AU98 -> 0 | AW12: =Tatsunoko!AV98 -> 1058151.8 | AX12: =Tatsunoko!AW98 -> 0 | ... BB12: =Tatsunoko!BA98 -> 0 | BC12: =SUM(AQ12:BB12) -> 1058151.8 | BD12: =Tatsunoko!BC98 -> 0 | BE12: =Tatsunoko!BD98 -> 0 | BF12: =Tatsunoko!BE98 -> 0 | BG12: =Tatsunoko!BF98 -> 0 | BH12: =Tatsunoko!BG98 -> 0 | BI12: =Tatsunoko!BH98 -> 0 | BJ12: =Tatsunoko!BI98 -> 1058151.8 | BK12: =Tatsunoko!BJ98 -> 0 | ... BO12: =Tatsunoko!BN98 -> 0 | BP12: =SUM(BD12:BO12) -> 1058151.8 | BQ12: =P12+AC12+AP12+BC12+BP12 -> 4761683.1
B13: Card Revenue - PPA/MLP | D13: ='PPA MLP'!C98 -> 0 | E13: ='PPA MLP'!D98 -> 0 | F13: ='PPA MLP'!E98 -> 0 | G13: ='PPA MLP'!F98 -> 0 | H13: ='PPA MLP'!G98 -> 0 | I13: ='PPA MLP'!H98 -> 0 | J13: ='PPA MLP'!I98 -> 0 | K13: ='PPA MLP'!J98 -> 0 | ... O13: ='PPA MLP'!N98 -> 0 | P13: =SUM(D13:O13) -> 0 | Q13: ='PPA MLP'!P98 -> 0 | R13: ='PPA MLP'!Q98 -> 0 | S13: ='PPA MLP'!R98 -> 0 | T13: ='PPA MLP'!S98 -> 0 | U13: ='PPA MLP'!T98 -> 0 | V13: ='PPA MLP'!U98 -> 0 | W13: ='PPA MLP'!V98 -> 551567.81 | X13: ='PPA MLP'!W98 -> 0 | ... AB13: ='PPA MLP'!AA98 -> 0 | AC13: =SUM(Q13:AB13) -> 1026981.5 | AD13: ='PPA MLP'!AC98 -> 0 | AE13: ='PPA MLP'!AD98 -> 0 | AF13: ='PPA MLP'!AE98 -> 0 | AG13: ='PPA MLP'!AF98 -> 0 | AH13: ='PPA MLP'!AG98 -> 0 | AI13: ='PPA MLP'!AH98 -> 0 | AJ13: ='PPA MLP'!AI98 -> 772194.94 | AK13: ='PPA MLP'!AJ98 -> 0 | ... AO13: ='PPA MLP'!AN98 -> 0 | AP13: =SUM(AD13:AO13) -> 1437774.1 | AQ13: ='PPA MLP'!AP98 -> 0 | AR13: ='PPA MLP'!AQ98 -> 0 | AS13: ='PPA MLP'!AR98 -> 0 | AT13: ='PPA MLP'!AS98 -> 0 | AU13: ='PPA MLP'!AT98 -> 0 | AV13: ='PPA MLP'!AU98 -> 0 | AW13: ='PPA MLP'!AV98 -> 1042626.5 | AX13: ='PPA MLP'!AW98 -> 0 | ... BB13: ='PPA MLP'!BA98 -> 0 | BC13: =SUM(AQ13:BB13) -> 1941790.1 | BD13: ='PPA MLP'!BC98 -> 0 | BE13: ='PPA MLP'!BD98 -> 0 | BF13: ='PPA MLP'!BE98 -> 0 | BG13: ='PPA MLP'!BF98 -> 0 | BH13: ='PPA MLP'!BG98 -> 0 | BI13: ='PPA MLP'!BH98 -> 0 | BJ13: ='PPA MLP'!BI98 -> 1354881.4 | BK13: ='PPA MLP'!BJ98 -> 0 | ... BO13: ='PPA MLP'!BN98 -> 142497.62 | BP13: =SUM(BD13:BO13) -> 2666706.9 | BQ13: =P13+AC13+AP13+BC13+BP13 -> 7073252.7
A14: Pipeline (Conservative Estimate)
B15: Card Revenue - Pipeline | D15: 0 | E15: 0 | F15: 0 | G15: 0 | H15: 0 | I15: 0 | J15: 0 | K15: 0 | L15: 0 | M15: 0 | N15: 0 | O15: 0 | P15: =SUM(D15:O15) -> 0 | Q15: 0 | R15: 0 | S15: 0 | T15: 0 | U15: 0 | V15: ='Pipeline (Projected)'!$I$27/12 -> 22916.667 | W15: ='Pipeline (Projected)'!$I$27/12 -> 22916.667 | X15: ='Pipeline (Projected)'!$I$27/12 -> 22916.667 | Y15: ='Pipeline (Projected)'!$I$27/12 -> 22916.667 | Z15: ='Pipeline (Projected)'!$I$27/12 -> 22916.667 | AA15: ='Pipeline (Projected)'!$I$27/12 -> 22916.667 | AB15: ='Pipeline (Projected)'!$I$27/12 -> 22916.667 | AC15: =SUM(Q15:AB15) -> 160416.67 | AD15: ='Pipeline (Projected)'!$I$28/12 -> 1145833.3 | AE15: ='Pipeline (Projected)'!$I$28/12 -> 1145833.3 | AF15: ='Pipeline (Projected)'!$I$28/12 -> 1145833.3 | AG15: ='Pipeline (Projected)'!$I$28/12 -> 1145833.3 | AH15: ='Pipeline (Projected)'!$I$28/12 -> 1145833.3 | AI15: ='Pipeline (Projected)'!$I$28/12 -> 1145833.3 | AJ15: ='Pipeline (Projected)'!$I$28/12 -> 1145833.3 | AK15: ='Pipeline (Projected)'!$I$28/12 -> 1145833.3 | ... AO15: ='Pipeline (Projected)'!$I$28/12 -> 1145833.3 | AP15: =SUM(AD15:AO15) -> 13750000 | AQ15: ='Pipeline (Projected)'!$I$29/12 -> 3300000 | AR15: ='Pipeline (Projected)'!$I$29/12 -> 3300000 | AS15: ='Pipeline (Projected)'!$I$29/12 -> 3300000 | AT15: ='Pipeline (Projected)'!$I$29/12 -> 3300000 | AU15: ='Pipeline (Projected)'!$I$29/12 -> 3300000 | AV15: ='Pipeline (Projected)'!$I$29/12 -> 3300000 | AW15: ='Pipeline (Projected)'!$I$29/12 -> 3300000 | AX15: ='Pipeline (Projected)'!$I$29/12 -> 3300000 | ... BB15: ='Pipeline (Projected)'!$I$29/12 -> 3300000 | BC15: =SUM(AQ15:BB15) -> 39600000 | BD15: ='Pipeline (Projected)'!$I$30/12 -> 5454166.7 | BE15: ='Pipeline (Projected)'!$I$30/12 -> 5454166.7 | BF15: ='Pipeline (Projected)'!$I$30/12 -> 5454166.7 | BG15: ='Pipeline (Projected)'!$I$30/12 -> 5454166.7 | BH15: ='Pipeline (Projected)'!$I$30/12 -> 5454166.7 | BI15: ='Pipeline (Projected)'!$I$30/12 -> 5454166.7 | BJ15: ='Pipeline (Projected)'!$I$31/12 -> 7608333.3 | BK15: ='Pipeline (Projected)'!$I$31/12 -> 7608333.3 | BL15: ='Pipeline (Projected)'!$I$31/12 -> 7608333.3 | BM15: ='Pipeline (Projected)'!$I$31/12 -> 7608333.3 | BN15: ='Pipeline (Projected)'!$I$31/12 -> 7608333.3 | BO15: ='Pipeline (Projected)'!$I$31/12 -> 7608333.3 | BP15: =SUM(BD15:BO15) -> 78375000 | BQ15: =P15+AC15+AP15+BC15+BP15 -> 1.3188542e+08
A16: Frequency (Direct to Consumer Sales)
B17: Card revenue - Frequency | D17: 0 | E17: 0 | F17: 0 | G17: 0 | H17: 0 | I17: 0 | J17: 0 | K17: 0 | L17: 0 | M17: 0 | N17: 0 | O17: 0 | P17: =SUM(D17:O17) -> 0 | Q17: 0 | R17: 0 | S17: 0 | T17: =Frequency!$H$14/12 -> 188921.25 | U17: =Frequency!$H$14/12 -> 188921.25 | V17: =Frequency!$H$14/12 -> 188921.25 | W17: =Frequency!$H$14/12 -> 188921.25 | X17: =Frequency!$H$14/12 -> 188921.25 | Y17: =Frequency!$H$14/12 -> 188921.25 | Z17: =Frequency!$H$14/12 -> 188921.25 | AA17: =Frequency!$H$14/12 -> 188921.25 | AB17: =Frequency!$H$14/12 -> 188921.25 | AC17: =SUM(Q17:AB17) -> 1700291.2 | AD17: =Frequency!$H$14/12 -> 188921.25 | AE17: =Frequency!$H$14/12 -> 188921.25 | AF17: =Frequency!$H$14/12 -> 188921.25 | AG17: =Frequency!$H$24/12 -> 453411 | AH17: =Frequency!$H$24/12 -> 453411 | AI17: =Frequency!$H$24/12 -> 453411 | AJ17: =Frequency!$H$24/12 -> 453411 | AK17: =Frequency!$H$24/12 -> 453411 | AL17: =Frequency!$H$24/12 -> 453411 | AM17: =Frequency!$H$24/12 -> 453411 | AN17: =Frequency!$H$24/12 -> 453411 | AO17: =Frequency!$H$24/12 -> 453411 | AP17: =SUM(AD17:AO17) -> 4647462.8 | AQ17: =Frequency!$H$24/12 -> 453411 | AR17: =Frequency!$H$24/12 -> 453411 | AS17: =Frequency!$H$24/12 -> 453411 | AT17: =Frequency!$H$34/12 -> 816139.8 | AU17: =Frequency!$H$34/12 -> 816139.8 | AV17: =Frequency!$H$34/12 -> 816139.8 | AW17: =Frequency!$H$34/12 -> 816139.8 | AX17: =Frequency!$H$34/12 -> 816139.8 | AY17: =Frequency!$H$34/12 -> 816139.8 | AZ17: =Frequency!$H$34/12 -> 816139.8 | BA17: =Frequency!$H$34/12 -> 816139.8 | BB17: =Frequency!$H$34/12 -> 816139.8 | BC17: =SUM(AQ17:BB17) -> 8705491.2 | BD17: =Frequency!$H$34/12 -> 816139.8 | BE17: =Frequency!$H$34/12 -> 816139.8 | BF17: =Frequency!$H$34/12 -> 816139.8 | BG17: =Frequency!$H$34/12 -> 816139.8 | BH17: =Frequency!$H$34/12 -> 816139.8 | BI17: =Frequency!$H$34/12 -> 816139.8 | BJ17: =Frequency!$H$34/12 -> 816139.8 | BK17: =Frequency!$H$34/12 -> 816139.8 | ... BO17: =Frequency!$H$34/12 -> 816139.8 | BP17: =SUM(BD17:BO17) -> 9793677.6 | BQ17: =P17+AC17+AP17+BC17+BP17 -> 24846923
A18: Non-Card Revenue
B19: Inside Card Revenue | C19: 0.1 | D19: 0 | E19: 0 | F19: 0 | G19: 0 | H19: 0 | I19: 0 | J19: 0 | K19: 0 | L19: 0 | M19: 0 | N19: 0 | O19: =N19*(1+$C19) -> 0 | P19: =SUM(D19:O19) -> 0 | Q19: 10000 | R19: =Q19*(1+$C19) -> 11000 | S19: =R19*(1+$C19) -> 12100 | T19: =S19*(1+$C19) -> 13310 | U19: =T19*(1+$C19) -> 14641 | V19: =U19*(1+$C19) -> 16105.1 | W19: =V19*(1+$C19) -> 17715.61 | X19: =W19*(1+$C19) -> 19487.171 | Y19: =X19*(1+$C19) -> 21435.888 | ... AB19: =AA19*(1+$C19) -> 28531.167 | AC19: =SUM(Q19:AB19) -> 213842.84 | AD19: =AB19*(1+$C19) -> 31384.284 | AE19: =AD19*(1+$C19) -> 34522.712 | AF19: =AE19*(1+$C19) -> 37974.983 | AG19: =AF19*(1+$C19) -> 41772.482 | AH19: =AG19*(1+$C19) -> 45949.73 | AI19: =AH19*(1+$C19) -> 50544.703 | AJ19: =AI19*(1+$C19) -> 55599.173 | AK19: =AJ19*(1+$C19) -> 61159.09 | AL19: =AK19*(1+$C19) -> 67274.999 | ... AO19: =AN19*(1+$C19) -> 89543.024 | AP19: =SUM(AD19:AO19) -> 671130.43 | AQ19: =AO19*(1+$C19) -> 98497.327 | AR19: =AQ19*(1+$C19) -> 108347.06 | AS19: =AR19*(1+$C19) -> 119181.77 | AT19: =AS19*(1+$C19) -> 131099.94 | AU19: =AT19*(1+$C19) -> 144209.94 | AV19: =AU19*(1+$C19) -> 158630.93 | AW19: =AV19*(1+$C19) -> 174494.02 | AX19: =AW19*(1+$C19) -> 191943.42 | AY19: =AX19*(1+$C19) -> 211137.77 | ... BB19: =BA19*(1+$C19) -> 281024.37 | BC19: =SUM(AQ19:BB19) -> 2106294.8 | BD19: =BB19*(1+$C19) -> 309126.81 | BE19: =BD19*(1+$C19) -> 340039.49 | BF19: =BE19*(1+$C19) -> 374043.43 | BG19: =BF19*(1+$C19) -> 411447.78 | BH19: =BG19*(1+$C19) -> 452592.56 | BI19: =BH19*(1+$C19) -> 497851.81 | BJ19: =BI19*(1+$C19) -> 547636.99 | BK19: =BJ19*(1+$C19) -> 602400.69 | BL19: =BK19*(1+$C19) -> 662640.76 | ... BO19: =BN19*(1+$C19) -> 881974.85 | BP19: =SUM(BD19:BO19) -> 6610455.3 | BQ19: =P19+AC19+AP19+BC19+BP19 -> 9601723.4
B20: Sponsorship Revenue | C20: 0.07 | D20: 0 | E20: 0 | F20: 0 | G20: 0 | H20: 0 | I20: 0 | J20: 0 | K20: 0 | L20: 0 | N20: 0 | O20: 0 | P20: =SUM(D20:O20) -> 0 | Q20: 50000 | R20: =Q20 -> 50000 | S20: =R20 -> 50000 | T20: =S20 -> 50000 | U20: =T20 -> 50000 | V20: =U20 -> 50000 | W20: =V20 -> 50000 | X20: =W20 -> 50000 | Y20: =X20 -> 50000 | ... AB20: =AA20 -> 50000 | AC20: =SUM(Q20:AB20) -> 600000 | AD20: =AB20*(1+$C20) -> 53500 | AE20: =AD20*(1+$C20) -> 57245 | AF20: =AE20*(1+$C20) -> 61252.15 | AG20: =AF20*(1+$C20) -> 65539.801 | AH20: =AG20*(1+$C20) -> 70127.587 | AI20: =AH20*(1+$C20) -> 75036.518 | AJ20: =AI20*(1+$C20) -> 80289.074 | AK20: =AJ20*(1+$C20) -> 85909.309 | AL20: =AK20*(1+$C20) -> 91922.961 | ... AO20: =AN20*(1+$C20) -> 112609.58 | AP20: =SUM(AD20:AO20) -> 957032.14 | AQ20: =AO20*(1+$C20) -> 120492.25 | AR20: =AQ20*(1+$C20) -> 128926.71 | AS20: =AR20*(1+$C20) -> 137951.58 | AT20: =AS20*(1+$C20) -> 147608.19 | AU20: =AT20*(1+$C20) -> 157940.76 | AV20: =AU20*(1+$C20) -> 168996.61 | AW20: =AV20*(1+$C20) -> 180826.38 | AX20: =AW20*(1+$C20) -> 193484.22 | AY20: =AX20*(1+$C20) -> 207028.12 | ... BB20: =BA20*(1+$C20) -> 253618.35 | BC20: =SUM(AQ20:BB20) -> 2155419.7 | BD20: =BB20*(1+$C20) -> 271371.63 | BE20: =BD20*(1+$C20) -> 290367.65 | BF20: =BE20*(1+$C20) -> 310693.38 | BG20: =BF20*(1+$C20) -> 332441.92 | BH20: =BG20*(1+$C20) -> 355712.85 | BI20: =BH20*(1+$C20) -> 380612.75 | BJ20: =BI20*(1+$C20) -> 407255.64 | BK20: =BJ20*(1+$C20) -> 435763.54 | BL20: =BK20*(1+$C20) -> 466266.99 | ... BO20: =BN20*(1+$C20) -> 571197.11 | BP20: =SUM(BD20:BO20) -> 4854418.2 | BQ20: =P20+AC20+AP20+BC20+BP20 -> 8566870.1
B21: Services Revenue | C21: 0.1 | D21: 0 | E21: 0 | F21: 0 | G21: 0 | H21: 0 | I21: 0 | J21: 0 | K21: 0 | L21: 0 | M21: 0 | N21: 0 | O21: =N21*(1+$C21) -> 0 | P21: =SUM(D21:O21) -> 0 | Q21: 10000 | R21: =Q21*(1+$C21) -> 11000 | S21: =R21*(1+$C21) -> 12100 | T21: =S21*(1+$C21) -> 13310 | U21: =T21*(1+$C21) -> 14641 | V21: =U21*(1+$C21) -> 16105.1 | W21: =V21*(1+$C21) -> 17715.61 | X21: =W21*(1+$C21) -> 19487.171 | Y21: =X21*(1+$C21) -> 21435.888 | ... AB21: =AA21*(1+$C21) -> 28531.167 | AC21: =SUM(Q21:AB21) -> 213842.84 | AD21: =AB21*(1+$C21) -> 31384.284 | AE21: =AD21*(1+$C21) -> 34522.712 | AF21: =AE21*(1+$C21) -> 37974.983 | AG21: =AF21*(1+$C21) -> 41772.482 | AH21: =AG21*(1+$C21) -> 45949.73 | AI21: =AH21*(1+$C21) -> 50544.703 | AJ21: =AI21*(1+$C21) -> 55599.173 | AK21: =AJ21*(1+$C21) -> 61159.09 | AL21: =AK21*(1+$C21) -> 67274.999 | ... AO21: =AN21*(1+$C21) -> 89543.024 | AP21: =SUM(AD21:AO21) -> 671130.43 | AQ21: =AO21*(1+$C21) -> 98497.327 | AR21: =AQ21*(1+$C21) -> 108347.06 | AS21: =AR21*(1+$C21) -> 119181.77 | AT21: =AS21*(1+$C21) -> 131099.94 | AU21: =AT21*(1+$C21) -> 144209.94 | AV21: =AU21*(1+$C21) -> 158630.93 | AW21: =AV21*(1+$C21) -> 174494.02 | AX21: =AW21*(1+$C21) -> 191943.42 | AY21: =AX21*(1+$C21) -> 211137.77 | ... BB21: =BA21*(1+$C21) -> 281024.37 | BC21: =SUM(AQ21:BB21) -> 2106294.8 | BD21: =BB21*(1+$C21) -> 309126.81 | BE21: =BD21*(1+$C21) -> 340039.49 | BF21: =BE21*(1+$C21) -> 374043.43 | BG21: =BF21*(1+$C21) -> 411447.78 | BH21: =BG21*(1+$C21) -> 452592.56 | BI21: =BH21*(1+$C21) -> 497851.81 | BJ21: =BI21*(1+$C21) -> 547636.99 | BK21: =BJ21*(1+$C21) -> 602400.69 | BL21: =BK21*(1+$C21) -> 662640.76 | ... BO21: =BN21*(1+$C21) -> 881974.85 | BP21: =SUM(BD21:BO21) -> 6610455.3 | BQ21: =P21+AC21+AP21+BC21+BP21 -> 9601723.4
B22: Total Revenue | D22: =SUM(D7:D21) -> 0 | E22: =SUM(E7:E21) -> 0 | F22: =SUM(F7:F21) -> 0 | G22: =SUM(G7:G21) -> 0 | H22: =SUM(H7:H21) -> 0 | I22: =SUM(I7:I21) -> 0 | J22: =SUM(J7:J21) -> 0 | K22: =SUM(K7:K21) -> 0 | ... BQ22: =SUM(BQ7:BQ21) -> 3.399221e+08
B24: Cost of Goods Sold
A25: Cost of Goods Sold
B26: Cards & Packaging - BKFC | D26: =BKFC!C99 -> 0 | E26: =BKFC!D99 -> 0 | F26: =BKFC!E99 -> 0 | G26: =BKFC!F99 -> 0 | H26: =BKFC!G99 -> 0 | I26: =BKFC!H99 -> 0 | J26: =BKFC!I99 -> 0 | K26: =BKFC!J99 -> 0 | ... O26: =BKFC!N99 -> 0 | P26: =SUM(D26:O26) -> 417165.84 | Q26: =BKFC!P99 -> 1292472.7 | R26: =BKFC!Q99 -> 973386.97 | S26: =BKFC!R99 -> 80368.662 | T26: =BKFC!S99 -> 3015769.6 | U26: =BKFC!T99 -> 187526.88 | V26: =BKFC!U99 -> 544799.43 | W26: =BKFC!V99 -> 0 | X26: =BKFC!W99 -> 1271198.7 | ... AB26: =BKFC!AA99 -> 80368.662 | AC26: =SUM(Q26:AB26) -> 13361398 | AD26: =BKFC!AC99 -> 267895.54 | AE26: =BKFC!AD99 -> 187526.88 | AF26: =BKFC!AE99 -> 0 | AG26: =BKFC!AF99 -> 0 | AH26: =BKFC!AG99 -> 804144.04 | AI26: =BKFC!AH99 -> 0 | AJ26: =BKFC!AI99 -> 1876336.1 | AK26: =BKFC!AJ99 -> 2460381.4 | ... AO26: =BKFC!AN99 -> 0 | AP26: =SUM(AD26:AO26) -> 11449690 | AQ26: =BKFC!AP99 -> 262537.62 | AR26: =BKFC!AQ99 -> 0 | AS26: =BKFC!AR99 -> 0 | AT26: =BKFC!AS99 -> 0 | AU26: =BKFC!AT99 -> 981330.43 | AV26: =BKFC!AU99 -> 0 | AW26: =BKFC!AV99 -> 2289771 | AX26: =BKFC!AW99 -> 2892977 | ... BB26: =BKFC!BA99 -> 0 | BC26: =SUM(AQ26:BB26) -> 13337633 | BD26: =BKFC!BC99 -> 375053.75 | BE26: =BKFC!BD99 -> 0 | BF26: =BKFC!BE99 -> 0 | BG26: =BKFC!BF99 -> 0 | BH26: =BKFC!BG99 -> 1158516.8 | BI26: =BKFC!BH99 -> 0 | BJ26: =BKFC!BI99 -> 2703205.9 | BK26: =BKFC!BJ99 -> 3566673.1 | ... BO26: =BKFC!BN99 -> 468817.19 | BP26: =SUM(BD26:BO26) -> 16795426 | BQ26: =P26+AC26+AP26+BC26+BP26 -> 55361312
B27: Cards & Packaging - Ted | D27: =Ted!C99 -> 0 | E27: =Ted!D99 -> 0 | F27: =Ted!E99 -> 0 | G27: =Ted!F99 -> 0 | H27: =Ted!G99 -> 0 | I27: =Ted!H99 -> 0 | J27: =Ted!I99 -> 0 | K27: =Ted!J99 -> 0 | ... O27: =Ted!N99 -> 0 | P27: =SUM(D27:O27) -> 0 | Q27: =Ted!P99 -> 0 | R27: =Ted!Q99 -> 0 | S27: =Ted!R99 -> 0 | T27: =Ted!S99 -> 0 | U27: =Ted!T99 -> 0 | V27: =Ted!U99 -> 0 | W27: =Ted!V99 -> 1129236.5 | X27: =Ted!W99 -> 0 | ... AB27: =Ted!AA99 -> 0 | AC27: =SUM(Q27:AB27) -> 1129236.5 | AD27: =Ted!AC99 -> 0 | AE27: =Ted!AD99 -> 0 | AF27: =Ted!AE99 -> 0 | AG27: =Ted!AF99 -> 0 | AH27: =Ted!AG99 -> 0 | AI27: =Ted!AH99 -> 0 | AJ27: =Ted!AI99 -> 1619643.1 | AK27: =Ted!AJ99 -> 0 | ... AO27: =Ted!AN99 -> 0 | AP27: =SUM(AD27:AO27) -> 1619643.1 | AQ27: =Ted!AP99 -> 0 | AR27: =Ted!AQ99 -> 0 | AS27: =Ted!AR99 -> 0 | AT27: =Ted!AS99 -> 0 | AU27: =Ted!AT99 -> 0 | AV27: =Ted!AU99 -> 0 | AW27: =Ted!AV99 -> 2110049.8 | AX27: =Ted!AW99 -> 0 | ... BB27: =Ted!BA99 -> 0 | BC27: =SUM(AQ27:BB27) -> 2110049.8 | BD27: =Ted!BC99 -> 0 | BE27: =Ted!BD99 -> 0 | BF27: =Ted!BE99 -> 0 | BG27: =Ted!BF99 -> 0 | BH27: =Ted!BG99 -> 0 | BI27: =Ted!BH99 -> 0 | BJ27: =Ted!BI99 -> 2600456.4 | BK27: =Ted!BJ99 -> 0 | ... BO27: =Ted!BN99 -> 0 | BP27: =SUM(BD27:BO27) -> 2600456.4 | BQ27: =P27+AC27+AP27+BC27+BP27 -> 7459385.8
B28: Cards & Packaging - CareBears | D28: =CareBears!C99 -> 0 | E28: =CareBears!D99 -> 0 | F28: =CareBears!E99 -> 0 | G28: =CareBears!F99 -> 0 | H28: =CareBears!G99 -> 0 | I28: =CareBears!H99 -> 0 | J28: =CareBears!I99 -> 0 | K28: =CareBears!J99 -> 0 | ... O28: =CareBears!N99 -> 0 | P28: =SUM(D28:O28) -> 0 | Q28: =CareBears!P99 -> 0 | R28: =CareBears!Q99 -> 0 | S28: =CareBears!R99 -> 0 | T28: =CareBears!S99 -> 422626.5 | U28: =CareBears!T99 -> 0 | V28: =CareBears!U99 -> 0 | W28: =CareBears!V99 -> 0 | X28: =CareBears!W99 -> 0 | ... AB28: =CareBears!AA99 -> 0 | AC28: =SUM(Q28:AB28) -> 1398549.6 | AD28: =CareBears!AC99 -> 0 | AE28: =CareBears!AD99 -> 0 | AF28: =CareBears!AE99 -> 0 | AG28: =CareBears!AF99 -> 499617.83 | AH28: =CareBears!AG99 -> 0 | AI28: =CareBears!AH99 -> 0 | AJ28: =CareBears!AI99 -> 0 | AK28: =CareBears!AJ99 -> 0 | ... AO28: =CareBears!AN99 -> 0 | AP28: =SUM(AD28:AO28) -> 999235.66 | AQ28: =CareBears!AP99 -> 0 | AR28: =CareBears!AQ99 -> 0 | AS28: =CareBears!AR99 -> 0 | AT28: =CareBears!AS99 -> 523409.15 | AU28: =CareBears!AT99 -> 0 | AV28: =CareBears!AU99 -> 0 | AW28: =CareBears!AV99 -> 0 | AX28: =CareBears!AW99 -> 0 | ... BB28: =CareBears!BA99 -> 0 | BC28: =SUM(AQ28:BB28) -> 1046818.3 | BD28: =CareBears!BC99 -> 0 | BE28: =CareBears!BD99 -> 0 | BF28: =CareBears!BE99 -> 0 | BG28: =CareBears!BF99 -> 0 | BH28: =CareBears!BG99 -> 0 | BI28: =CareBears!BH99 -> 0 | BJ28: =CareBears!BI99 -> 0 | BK28: =CareBears!BJ99 -> 0 | ... BO28: =CareBears!BN99 -> 0 | BP28: =SUM(BD28:BO28) -> 0 | BQ28: =P28+AC28+AP28+BC28+BP28 -> 3444603.6
B29: Cards & Packaging - Blumhouse | D29: =Blumhouse!C99 -> 0 | E29: =Blumhouse!D99 -> 0 | F29: =Blumhouse!E99 -> 0 | G29: =Blumhouse!F99 -> 0 | H29: =Blumhouse!G99 -> 0 | I29: =Blumhouse!H99 -> 0 | J29: =Blumhouse!I99 -> 0 | K29: =Blumhouse!J99 -> 0 | ... O29: =Blumhouse!N99 -> 0 | P29: =SUM(D29:O29) -> 0 | Q29: =Blumhouse!P99 -> 0 | R29: =Blumhouse!Q99 -> 0 | S29: =Blumhouse!R99 -> 0 | T29: =Blumhouse!S99 -> 0 | U29: =Blumhouse!T99 -> 0 | V29: =Blumhouse!U99 -> 0 | W29: =Blumhouse!V99 -> 691020.5 | X29: =Blumhouse!W99 -> 0 | ... AB29: =Blumhouse!AA99 -> 0 | AC29: =SUM(Q29:AB29) -> 691020.5 | AD29: =Blumhouse!AC99 -> 0 | AE29: =Blumhouse!AD99 -> 0 | AF29: =Blumhouse!AE99 -> 0 | AG29: =Blumhouse!AF99 -> 0 | AH29: =Blumhouse!AG99 -> 0 | AI29: =Blumhouse!AH99 -> 0 | AJ29: =Blumhouse!AI99 -> 529075.9 | AK29: =Blumhouse!AJ99 -> 0 | ... AO29: =Blumhouse!AN99 -> 0 | AP29: =SUM(AD29:AO29) -> 529075.9 | AQ29: =Blumhouse!AP99 -> 0 | AR29: =Blumhouse!AQ99 -> 0 | AS29: =Blumhouse!AR99 -> 0 | AT29: =Blumhouse!AS99 -> 0 | AU29: =Blumhouse!AT99 -> 0 | AV29: =Blumhouse!AU99 -> 0 | AW29: =Blumhouse!AV99 -> 529075.9 | AX29: =Blumhouse!AW99 -> 0 | ... BB29: =Blumhouse!BA99 -> 0 | BC29: =SUM(AQ29:BB29) -> 529075.9 | BD29: =Blumhouse!BC99 -> 0 | BE29: =Blumhouse!BD99 -> 0 | BF29: =Blumhouse!BE99 -> 0 | BG29: =Blumhouse!BF99 -> 0 | BH29: =Blumhouse!BG99 -> 0 | BI29: =Blumhouse!BH99 -> 0 | BJ29: =Blumhouse!BI99 -> 529075.9 | BK29: =Blumhouse!BJ99 -> 0 | ... BO29: =Blumhouse!BN99 -> 0 | BP29: =SUM(BD29:BO29) -> 529075.9 | BQ29: =P29+AC29+AP29+BC29+BP29 -> 2278248.2
B30: Cards & Packaging - Tatsunoko | D30: =Tatsunoko!C99 -> 0 | E30: =Tatsunoko!D99 -> 0 | F30: =Tatsunoko!E99 -> 0 | G30: =Tatsunoko!F99 -> 0 | H30: =Tatsunoko!G99 -> 0 | I30: =Tatsunoko!H99 -> 0 | J30: =Tatsunoko!I99 -> 0 | K30: =Tatsunoko!J99 -> 0 | ... O30: =Tatsunoko!N99 -> 0 | P30: =SUM(D30:O30) -> 0 | Q30: =Tatsunoko!P99 -> 0 | R30: =Tatsunoko!Q99 -> 0 | S30: =Tatsunoko!R99 -> 0 | T30: =Tatsunoko!S99 -> 0 | U30: =Tatsunoko!T99 -> 0 | V30: =Tatsunoko!U99 -> 0 | W30: =Tatsunoko!V99 -> 793613.85 | X30: =Tatsunoko!W99 -> 0 | ... AB30: =Tatsunoko!AA99 -> 0 | AC30: =SUM(Q30:AB30) -> 793613.85 | AD30: =Tatsunoko!AC99 -> 0 | AE30: =Tatsunoko!AD99 -> 0 | AF30: =Tatsunoko!AE99 -> 0 | AG30: =Tatsunoko!AF99 -> 0 | AH30: =Tatsunoko!AG99 -> 0 | AI30: =Tatsunoko!AH99 -> 0 | AJ30: =Tatsunoko!AI99 -> 529075.9 | AK30: =Tatsunoko!AJ99 -> 0 | ... AO30: =Tatsunoko!AN99 -> 0 | AP30: =SUM(AD30:AO30) -> 529075.9 | AQ30: =Tatsunoko!AP99 -> 0 | AR30: =Tatsunoko!AQ99 -> 0 | AS30: =Tatsunoko!AR99 -> 0 | AT30: =Tatsunoko!AS99 -> 0 | AU30: =Tatsunoko!AT99 -> 0 | AV30: =Tatsunoko!AU99 -> 0 | AW30: =Tatsunoko!AV99 -> 529075.9 | AX30: =Tatsunoko!AW99 -> 0 | ... BB30: =Tatsunoko!BA99 -> 0 | BC30: =SUM(AQ30:BB30) -> 529075.9 | BD30: =Tatsunoko!BC99 -> 0 | BE30: =Tatsunoko!BD99 -> 0 | BF30: =Tatsunoko!BE99 -> 0 | BG30: =Tatsunoko!BF99 -> 0 | BH30: =Tatsunoko!BG99 -> 0 | BI30: =Tatsunoko!BH99 -> 0 | BJ30: =Tatsunoko!BI99 -> 529075.9 | BK30: =Tatsunoko!BJ99 -> 0 | ... BO30: =Tatsunoko!BN99 -> 0 | BP30: =SUM(BD30:BO30) -> 529075.9 | BQ30: =P30+AC30+AP30+BC30+BP30 -> 2380841.5
B31: Cards & Packaging - PPA/MLP | D31: ='PPA MLP'!C99 -> 0 | E31: ='PPA MLP'!D99 -> 0 | F31: ='PPA MLP'!E99 -> 0 | G31: ='PPA MLP'!F99 -> 0 | H31: ='PPA MLP'!G99 -> 0 | I31: ='PPA MLP'!H99 -> 0 | J31: ='PPA MLP'!I99 -> 0 | K31: ='PPA MLP'!J99 -> 0 | ... O31: ='PPA MLP'!N99 -> 0 | P31: =SUM(D31:O31) -> 0 | Q31: ='PPA MLP'!P99 -> 0 | R31: ='PPA MLP'!Q99 -> 0 | S31: ='PPA MLP'!R99 -> 0 | T31: ='PPA MLP'!S99 -> 0 | U31: ='PPA MLP'!T99 -> 0 | V31: ='PPA MLP'!U99 -> 0 | W31: ='PPA MLP'!V99 -> 275783.91 | X31: ='PPA MLP'!W99 -> 0 | ... AB31: ='PPA MLP'!AA99 -> 0 | AC31: =SUM(Q31:AB31) -> 513490.77 | AD31: ='PPA MLP'!AC99 -> 0 | AE31: ='PPA MLP'!AD99 -> 0 | AF31: ='PPA MLP'!AE99 -> 0 | AG31: ='PPA MLP'!AF99 -> 0 | AH31: ='PPA MLP'!AG99 -> 0 | AI31: ='PPA MLP'!AH99 -> 0 | AJ31: ='PPA MLP'!AI99 -> 386097.47 | AK31: ='PPA MLP'!AJ99 -> 0 | ... AO31: ='PPA MLP'!AN99 -> 0 | AP31: =SUM(AD31:AO31) -> 718887.08 | AQ31: ='PPA MLP'!AP99 -> 0 | AR31: ='PPA MLP'!AQ99 -> 0 | AS31: ='PPA MLP'!AR99 -> 0 | AT31: ='PPA MLP'!AS99 -> 0 | AU31: ='PPA MLP'!AT99 -> 0 | AV31: ='PPA MLP'!AU99 -> 0 | AW31: ='PPA MLP'!AV99 -> 521313.25 | AX31: ='PPA MLP'!AW99 -> 0 | ... BB31: ='PPA MLP'!BA99 -> 0 | BC31: =SUM(AQ31:BB31) -> 970895.06 | BD31: ='PPA MLP'!BC99 -> 0 | BE31: ='PPA MLP'!BD99 -> 0 | BF31: ='PPA MLP'!BE99 -> 0 | BG31: ='PPA MLP'!BF99 -> 0 | BH31: ='PPA MLP'!BG99 -> 0 | BI31: ='PPA MLP'!BH99 -> 0 | BJ31: ='PPA MLP'!BI99 -> 677440.73 | BK31: ='PPA MLP'!BJ99 -> 0 | ... BO31: ='PPA MLP'!BN99 -> 71248.81 | BP31: =SUM(BD31:BO31) -> 1333353.5 | BQ31: =P31+AC31+AP31+BC31+BP31 -> 3536626.4
B32: Cards & Packaging - Pipeline | D32: 0 | E32: 0 | F32: 0 | G32: 0 | H32: 0 | I32: 0 | J32: 0 | K32: 0 | L32: 0 | M32: 0 | P32: =SUM(D32:O32) -> 0 | Q32: 0 | R32: 0 | S32: 0 | T32: 0 | U32: 0 | V32: =-'Pipeline (Projected)'!$J$27/12 -> 11200 | W32: =-'Pipeline (Projected)'!$J$27/12 -> 11200 | X32: =-'Pipeline (Projected)'!$J$27/12 -> 11200 | Y32: =-'Pipeline (Projected)'!$J$27/12 -> 11200 | Z32: =-'Pipeline (Projected)'!$J$28/12 -> 414400 | AA32: =-'Pipeline (Projected)'!$J$28/12 -> 414400 | AB32: =-'Pipeline (Projected)'!$J$28/12 -> 414400 | AC32: =SUM(Q32:AB32) -> 1288000 | AD32: =-'Pipeline (Projected)'!$J$28/12 -> 414400 | AE32: =-'Pipeline (Projected)'!$J$28/12 -> 414400 | AF32: =-'Pipeline (Projected)'!$J$28/12 -> 414400 | AG32: =-'Pipeline (Projected)'!$J$28/12 -> 414400 | AH32: =-'Pipeline (Projected)'!$J$28/12 -> 414400 | AI32: =-'Pipeline (Projected)'!$J$28/12 -> 414400 | AJ32: =-'Pipeline (Projected)'!$J$28/12 -> 414400 | AK32: =-'Pipeline (Projected)'!$J$28/12 -> 414400 | AL32: =-'Pipeline (Projected)'!$J$28/12 -> 414400 | AM32: =-'Pipeline (Projected)'!$J$29/12 -> 1097600 | AN32: =-'Pipeline (Projected)'!$J$29/12 -> 1097600 | AO32: =-'Pipeline (Projected)'!$J$29/12 -> 1097600 | AP32: =SUM(AD32:AO32) -> 7022400 | AQ32: =-'Pipeline (Projected)'!$J$29/12 -> 1097600 | AR32: =-'Pipeline (Projected)'!$J$29/12 -> 1097600 | AS32: =-'Pipeline (Projected)'!$J$29/12 -> 1097600 | AT32: =-'Pipeline (Projected)'!$J$29/12 -> 1097600 | AU32: =-'Pipeline (Projected)'!$J$29/12 -> 1097600 | AV32: =-'Pipeline (Projected)'!$J$29/12 -> 1097600 | AW32: =-'Pipeline (Projected)'!$J$29/12 -> 1097600 | AX32: =-'Pipeline (Projected)'!$J$29/12 -> 1097600 | AY32: =-'Pipeline (Projected)'!$J$29/12 -> 1097600 | AZ32: =-'Pipeline (Projected)'!$J$30/12 -> 1780800 | BA32: =-'Pipeline (Projected)'!$J$30/12 -> 1780800 | BB32: =-'Pipeline (Projected)'!$J$30/12 -> 1780800 | BC32: =SUM(AQ32:BB32) -> 15220800 | BD32: =-'Pipeline (Projected)'!$J$30/12 -> 1780800 | BE32: =-'Pipeline (Projected)'!$J$30/12 -> 1780800 | BF32: =-'Pipeline (Projected)'!$J$30/12 -> 1780800 | BG32: =-'Pipeline (Projected)'!$J$31/12 -> 2464000 | BH32: =-'Pipeline (Projected)'!$J$31/12 -> 2464000 | BI32: =-'Pipeline (Projected)'!$J$31/12 -> 2464000 | BJ32: =-'Pipeline (Projected)'!$J$31/12 -> 2464000 | BK32: =-'Pipeline (Projected)'!$J$31/12 -> 2464000 | BL32: =-'Pipeline (Projected)'!$J$31/12 -> 2464000 | BM32: =-'Pipeline (Projected)'!$J$31/12 -> 2464000 | BN32: =-'Pipeline (Projected)'!$J$31/12 -> 2464000 | BO32: =-'Pipeline (Projected)'!$J$31/12 -> 2464000 | BP32: =SUM(BD32:BO32) -> 27518400 | BQ32: =P32+AC32+AP32+BC32+BP32 -> 51049600
B33: Cards & Packaging - Frequency | D33: 0 | E33: 0 | F33: 0 | G33: 0 | H33: 0 | I33: 0 | J33: 0 | K33: 0 | L33: 0 | M33: 0 | P33: =SUM(D33:O33) -> 0 | Q33: 0 | R33: 0 | S33: 0 | T33: =Frequency!$J$14/12 -> 2756.25 | U33: =Frequency!$J$14/12 -> 2756.25 | V33: =Frequency!$J$14/12 -> 2756.25 | W33: =Frequency!$J$14/12 -> 2756.25 | X33: =Frequency!$J$14/12 -> 2756.25 | Y33: =Frequency!$J$14/12 -> 2756.25 | Z33: =Frequency!$J$14/12 -> 2756.25 | AA33: =Frequency!$J$14/12 -> 2756.25 | AB33: =Frequency!$J$14/12 -> 2756.25 | AC33: =SUM(Q33:AB33) -> 24806.25 | AD33: =Frequency!$J$14/12 -> 2756.25 | AE33: =Frequency!$J$14/12 -> 2756.25 | AF33: =Frequency!$J$14/12 -> 2756.25 | AG33: =Frequency!$J$24/12 -> 6615 | AH33: =Frequency!$J$24/12 -> 6615 | AI33: =Frequency!$J$24/12 -> 6615 | AJ33: =Frequency!$J$24/12 -> 6615 | AK33: =Frequency!$J$24/12 -> 6615 | AL33: =Frequency!$J$24/12 -> 6615 | AM33: =Frequency!$J$24/12 -> 6615 | AN33: =Frequency!$J$24/12 -> 6615 | AO33: =Frequency!$J$24/12 -> 6615 | AP33: =SUM(AD33:AO33) -> 67803.75 | AQ33: =Frequency!$J$24/12 -> 6615 | AR33: =Frequency!$J$24/12 -> 6615 | AS33: =Frequency!$J$24/12 -> 6615 | AT33: =Frequency!$J$34/12 -> 11907 | AU33: =Frequency!$J$34/12 -> 11907 | AV33: =Frequency!$J$34/12 -> 11907 | AW33: =Frequency!$J$34/12 -> 11907 | AX33: =Frequency!$J$34/12 -> 11907 | AY33: =Frequency!$J$34/12 -> 11907 | AZ33: =Frequency!$J$34/12 -> 11907 | BA33: =Frequency!$J$34/12 -> 11907 | BB33: =Frequency!$J$34/12 -> 11907 | BC33: =SUM(AQ33:BB33) -> 127008 | BD33: =Frequency!$J$34/12 -> 11907 | BE33: =Frequency!$J$34/12 -> 11907 | BF33: =Frequency!$J$34/12 -> 11907 | BG33: =Frequency!$J$34/12 -> 11907 | BH33: =Frequency!$J$34/12 -> 11907 | BI33: =Frequency!$J$34/12 -> 11907 | BJ33: =Frequency!$J$34/12 -> 11907 | BK33: =Frequency!$J$34/12 -> 11907 | ... BO33: =Frequency!$J$34/12 -> 11907 | BP33: =SUM(BD33:BO33) -> 142884 | BQ33: =P33+AC33+AP33+BC33+BP33 -> 362502
B34: Freight & Fulfillment - BKFC | D34: =BKFC!C100 -> 0 | E34: =BKFC!D100 -> 0 | F34: =BKFC!E100 -> 0 | G34: =BKFC!F100 -> 0 | H34: =BKFC!G100 -> 0 | I34: =BKFC!H100 -> 0 | J34: =BKFC!I100 -> 0 | K34: =BKFC!J100 -> 0 | ... O34: =BKFC!N100 -> 29586.23 | P34: =SUM(D34:O34) -> 29586.23 | Q34: =BKFC!P100 -> 0 | R34: =BKFC!Q100 -> 91664.731 | S34: =BKFC!R100 -> 0 | T34: =BKFC!S100 -> 5699.905 | U34: =BKFC!T100 -> 0 | V34: =BKFC!U100 -> 0 | W34: =BKFC!V100 -> 38638.257 | X34: =BKFC!W100 -> 0 | ... AB34: =BKFC!AA100 -> 0 | AC34: =SUM(Q34:AB34) -> 261864.73 | AD34: =BKFC!AC100 -> 5699.905 | AE34: =BKFC!AD100 -> 0 | AF34: =BKFC!AE100 -> 0 | AG34: =BKFC!AF100 -> 0 | AH34: =BKFC!AG100 -> 0 | AI34: =BKFC!AH100 -> 0 | AJ34: =BKFC!AI100 -> 57031.493 | AK34: =BKFC!AJ100 -> 0 | ... AO34: =BKFC!AN100 -> 0 | AP34: =SUM(AD34:AO34) -> 237226.53 | AQ34: =BKFC!AP100 -> 7979.867 | AR34: =BKFC!AQ100 -> 0 | AS34: =BKFC!AR100 -> 0 | AT34: =BKFC!AS100 -> 0 | AU34: =BKFC!AT100 -> 0 | AV34: =BKFC!AU100 -> 0 | AW34: =BKFC!AV100 -> 69597.902 | AX34: =BKFC!AW100 -> 0 | ... BB34: =BKFC!BA100 -> 0 | BC34: =SUM(AQ34:BB34) -> 282753.44 | BD34: =BKFC!BC100 -> 11399.81 | BE34: =BKFC!BD100 -> 0 | BF34: =BKFC!BE100 -> 0 | BG34: =BKFC!BF100 -> 0 | BH34: =BKFC!BG100 -> 0 | BI34: =BKFC!BH100 -> 0 | BJ34: =BKFC!BI100 -> 82164.312 | BK34: =BKFC!BJ100 -> 0 | ... BO34: =BKFC!BN100 -> 14249.763 | BP34: =SUM(BD34:BO34) -> 360769.43 | BQ34: =P34+AC34+AP34+BC34+BP34 -> 1172200.4
B35: Freight & Fulfillment - Ted | D35: =Ted!C100 -> 0 | E35: =Ted!D100 -> 0 | F35: =Ted!E100 -> 0 | G35: =Ted!F100 -> 0 | H35: =Ted!G100 -> 0 | I35: =Ted!H100 -> 0 | J35: =Ted!I100 -> 0 | K35: =Ted!J100 -> 0 | ... O35: =Ted!N100 -> 0 | P35: =SUM(D35:O35) -> 0 | Q35: =Ted!P100 -> 0 | R35: =Ted!Q100 -> 0 | S35: =Ted!R100 -> 0 | T35: =Ted!S100 -> 0 | U35: =Ted!T100 -> 0 | V35: =Ted!U100 -> 0 | W35: =Ted!V100 -> 22584.73 | X35: =Ted!W100 -> 0 | ... AB35: =Ted!AA100 -> 0 | AC35: =SUM(Q35:AB35) -> 22584.73 | AD35: =Ted!AC100 -> 0 | AE35: =Ted!AD100 -> 0 | AF35: =Ted!AE100 -> 0 | AG35: =Ted!AF100 -> 0 | AH35: =Ted!AG100 -> 0 | AI35: =Ted!AH100 -> 0 | AJ35: =Ted!AI100 -> 32392.862 | AK35: =Ted!AJ100 -> 0 | ... AO35: =Ted!AN100 -> 0 | AP35: =SUM(AD35:AO35) -> 32392.862 | AQ35: =Ted!AP100 -> 0 | AR35: =Ted!AQ100 -> 0 | AS35: =Ted!AR100 -> 0 | AT35: =Ted!AS100 -> 0 | AU35: =Ted!AT100 -> 0 | AV35: =Ted!AU100 -> 0 | AW35: =Ted!AV100 -> 42200.995 | AX35: =Ted!AW100 -> 0 | ... BB35: =Ted!BA100 -> 0 | BC35: =SUM(AQ35:BB35) -> 42200.995 | BD35: =Ted!BC100 -> 0 | BE35: =Ted!BD100 -> 0 | BF35: =Ted!BE100 -> 0 | BG35: =Ted!BF100 -> 0 | BH35: =Ted!BG100 -> 0 | BI35: =Ted!BH100 -> 0 | BJ35: =Ted!BI100 -> 52009.128 | BK35: =Ted!BJ100 -> 0 | ... BO35: =Ted!BN100 -> 0 | BP35: =SUM(BD35:BO35) -> 52009.128 | BQ35: =P35+AC35+AP35+BC35+BP35 -> 149187.71
B36: Freight & Fulfillment - CareBears | D36: =CareBears!C100 -> 0 | E36: =CareBears!D100 -> 0 | F36: =CareBears!E100 -> 0 | G36: =CareBears!F100 -> 0 | H36: =CareBears!G100 -> 0 | I36: =CareBears!H100 -> 0 | J36: =CareBears!I100 -> 0 | K36: =CareBears!J100 -> 0 | ... O36: =CareBears!N100 -> 0 | P36: =SUM(D36:O36) -> 0 | Q36: =CareBears!P100 -> 0 | R36: =CareBears!Q100 -> 0 | S36: =CareBears!R100 -> 0 | T36: =CareBears!S100 -> 8452.53 | U36: =CareBears!T100 -> 0 | V36: =CareBears!U100 -> 0 | W36: =CareBears!V100 -> 0 | X36: =CareBears!W100 -> 0 | ... AB36: =CareBears!AA100 -> 0 | AC36: =SUM(Q36:AB36) -> 27970.993 | AD36: =CareBears!AC100 -> 0 | AE36: =CareBears!AD100 -> 0 | AF36: =CareBears!AE100 -> 0 | AG36: =CareBears!AF100 -> 9992.3565 | AH36: =CareBears!AG100 -> 0 | AI36: =CareBears!AH100 -> 0 | AJ36: =CareBears!AI100 -> 0 | AK36: =CareBears!AJ100 -> 0 | ... AO36: =CareBears!AN100 -> 0 | AP36: =SUM(AD36:AO36) -> 19984.713 | AQ36: =CareBears!AP100 -> 0 | AR36: =CareBears!AQ100 -> 0 | AS36: =CareBears!AR100 -> 0 | AT36: =CareBears!AS100 -> 10468.183 | AU36: =CareBears!AT100 -> 0 | AV36: =CareBears!AU100 -> 0 | AW36: =CareBears!AV100 -> 0 | AX36: =CareBears!AW100 -> 0 | ... BB36: =CareBears!BA100 -> 0 | BC36: =SUM(AQ36:BB36) -> 20936.366 | BD36: =CareBears!BC100 -> 0 | BE36: =CareBears!BD100 -> 0 | BF36: =CareBears!BE100 -> 0 | BG36: =CareBears!BF100 -> 0 | BH36: =CareBears!BG100 -> 0 | BI36: =CareBears!BH100 -> 0 | BJ36: =CareBears!BI100 -> 0 | BK36: =CareBears!BJ100 -> 0 | ... BO36: =CareBears!BN100 -> 0 | BP36: =SUM(BD36:BO36) -> 0 | BQ36: =P36+AC36+AP36+BC36+BP36 -> 68892.071
B37: Freight & Fulfillment - Blumhouse | D37: =Blumhouse!C100 -> 0 | E37: =Blumhouse!D100 -> 0 | F37: =Blumhouse!E100 -> 0 | G37: =Blumhouse!F100 -> 0 | H37: =Blumhouse!G100 -> 0 | I37: =Blumhouse!H100 -> 0 | J37: =Blumhouse!I100 -> 0 | K37: =Blumhouse!J100 -> 0 | ... O37: =Blumhouse!N100 -> 0 | P37: =SUM(D37:O37) -> 0 | Q37: =Blumhouse!P100 -> 0 | R37: =Blumhouse!Q100 -> 0 | S37: =Blumhouse!R100 -> 0 | T37: =Blumhouse!S100 -> 0 | U37: =Blumhouse!T100 -> 0 | V37: =Blumhouse!U100 -> 0 | W37: =Blumhouse!V100 -> 13820.41 | X37: =Blumhouse!W100 -> 0 | ... AB37: =Blumhouse!AA100 -> 0 | AC37: =SUM(Q37:AB37) -> 13820.41 | AD37: =Blumhouse!AC100 -> 0 | AE37: =Blumhouse!AD100 -> 0 | AF37: =Blumhouse!AE100 -> 0 | AG37: =Blumhouse!AF100 -> 0 | AH37: =Blumhouse!AG100 -> 0 | AI37: =Blumhouse!AH100 -> 0 | AJ37: =Blumhouse!AI100 -> 10581.518 | AK37: =Blumhouse!AJ100 -> 0 | ... AO37: =Blumhouse!AN100 -> 0 | AP37: =SUM(AD37:AO37) -> 10581.518 | AQ37: =Blumhouse!AP100 -> 0 | AR37: =Blumhouse!AQ100 -> 0 | AS37: =Blumhouse!AR100 -> 0 | AT37: =Blumhouse!AS100 -> 0 | AU37: =Blumhouse!AT100 -> 0 | AV37: =Blumhouse!AU100 -> 0 | AW37: =Blumhouse!AV100 -> 10581.518 | AX37: =Blumhouse!AW100 -> 0 | ... BB37: =Blumhouse!BA100 -> 0 | BC37: =SUM(AQ37:BB37) -> 10581.518 | BD37: =Blumhouse!BC100 -> 0 | BE37: =Blumhouse!BD100 -> 0 | BF37: =Blumhouse!BE100 -> 0 | BG37: =Blumhouse!BF100 -> 0 | BH37: =Blumhouse!BG100 -> 0 | BI37: =Blumhouse!BH100 -> 0 | BJ37: =Blumhouse!BI100 -> 10581.518 | BK37: =Blumhouse!BJ100 -> 0 | ... BO37: =Blumhouse!BN100 -> 0 | BP37: =SUM(BD37:BO37) -> 10581.518 | BQ37: =P37+AC37+AP37+BC37+BP37 -> 45564.964
B38: Freight & Fulfillment - Tatsunoko | D38: =Tatsunoko!C100 -> 0 | E38: =Tatsunoko!D100 -> 0 | F38: =Tatsunoko!E100 -> 0 | G38: =Tatsunoko!F100 -> 0 | H38: =Tatsunoko!G100 -> 0 | I38: =Tatsunoko!H100 -> 0 | J38: =Tatsunoko!I100 -> 0 | K38: =Tatsunoko!J100 -> 0 | ... O38: =Tatsunoko!N100 -> 0 | P38: =SUM(D38:O38) -> 0 | Q38: =Tatsunoko!P100 -> 0 | R38: =Tatsunoko!Q100 -> 0 | S38: =Tatsunoko!R100 -> 0 | T38: =Tatsunoko!S100 -> 0 | U38: =Tatsunoko!T100 -> 0 | V38: =Tatsunoko!U100 -> 0 | W38: =Tatsunoko!V100 -> 15872.277 | X38: =Tatsunoko!W100 -> 0 | ... AB38: =Tatsunoko!AA100 -> 0 | AC38: =SUM(Q38:AB38) -> 15872.277 | AD38: =Tatsunoko!AC100 -> 0 | AE38: =Tatsunoko!AD100 -> 0 | AF38: =Tatsunoko!AE100 -> 0 | AG38: =Tatsunoko!AF100 -> 0 | AH38: =Tatsunoko!AG100 -> 0 | AI38: =Tatsunoko!AH100 -> 0 | AJ38: =Tatsunoko!AI100 -> 10581.518 | AK38: =Tatsunoko!AJ100 -> 0 | ... AO38: =Tatsunoko!AN100 -> 0 | AP38: =SUM(AD38:AO38) -> 10581.518 | AQ38: =Tatsunoko!AP100 -> 0 | AR38: =Tatsunoko!AQ100 -> 0 | AS38: =Tatsunoko!AR100 -> 0 | AT38: =Tatsunoko!AS100 -> 0 | AU38: =Tatsunoko!AT100 -> 0 | AV38: =Tatsunoko!AU100 -> 0 | AW38: =Tatsunoko!AV100 -> 10581.518 | AX38: =Tatsunoko!AW100 -> 0 | ... BB38: =Tatsunoko!BA100 -> 0 | BC38: =SUM(AQ38:BB38) -> 10581.518 | BD38: =Tatsunoko!BC100 -> 0 | BE38: =Tatsunoko!BD100 -> 0 | BF38: =Tatsunoko!BE100 -> 0 | BG38: =Tatsunoko!BF100 -> 0 | BH38: =Tatsunoko!BG100 -> 0 | BI38: =Tatsunoko!BH100 -> 0 | BJ38: =Tatsunoko!BI100 -> 10581.518 | BK38: =Tatsunoko!BJ100 -> 0 | ... BO38: =Tatsunoko!BN100 -> 0 | BP38: =SUM(BD38:BO38) -> 10581.518 | BQ38: =P38+AC38+AP38+BC38+BP38 -> 47616.831
B39: Freight & Fulfillment - PPA/MLP | D39: ='PPA MLP'!C100 -> 0 | E39: ='PPA MLP'!D100 -> 0 | F39: ='PPA MLP'!E100 -> 0 | G39: ='PPA MLP'!F100 -> 0 | H39: ='PPA MLP'!G100 -> 0 | I39: ='PPA MLP'!H100 -> 0 | J39: ='PPA MLP'!I100 -> 0 | K39: ='PPA MLP'!J100 -> 0 | ... O39: ='PPA MLP'!N100 -> 0 | P39: =SUM(D39:O39) -> 0 | Q39: ='PPA MLP'!P100 -> 0 | R39: ='PPA MLP'!Q100 -> 0 | S39: ='PPA MLP'!R100 -> 0 | T39: ='PPA MLP'!S100 -> 0 | U39: ='PPA MLP'!T100 -> 0 | V39: ='PPA MLP'!U100 -> 0 | W39: ='PPA MLP'!V100 -> 5515.6781 | X39: ='PPA MLP'!W100 -> 0 | ... AB39: ='PPA MLP'!AA100 -> 0 | AC39: =SUM(Q39:AB39) -> 10269.815 | AD39: ='PPA MLP'!AC100 -> 0 | AE39: ='PPA MLP'!AD100 -> 0 | AF39: ='PPA MLP'!AE100 -> 0 | AG39: ='PPA MLP'!AF100 -> 0 | AH39: ='PPA MLP'!AG100 -> 0 | AI39: ='PPA MLP'!AH100 -> 0 | AJ39: ='PPA MLP'!AI100 -> 7721.9494 | AK39: ='PPA MLP'!AJ100 -> 0 | ... AO39: ='PPA MLP'!AN100 -> 0 | AP39: =SUM(AD39:AO39) -> 14377.742 | AQ39: ='PPA MLP'!AP100 -> 0 | AR39: ='PPA MLP'!AQ100 -> 0 | AS39: ='PPA MLP'!AR100 -> 0 | AT39: ='PPA MLP'!AS100 -> 0 | AU39: ='PPA MLP'!AT100 -> 0 | AV39: ='PPA MLP'!AU100 -> 0 | AW39: ='PPA MLP'!AV100 -> 10426.265 | AX39: ='PPA MLP'!AW100 -> 0 | ... BB39: ='PPA MLP'!BA100 -> 0 | BC39: =SUM(AQ39:BB39) -> 19417.901 | BD39: ='PPA MLP'!BC100 -> 0 | BE39: ='PPA MLP'!BD100 -> 0 | BF39: ='PPA MLP'!BE100 -> 0 | BG39: ='PPA MLP'!BF100 -> 0 | BH39: ='PPA MLP'!BG100 -> 0 | BI39: ='PPA MLP'!BH100 -> 0 | BJ39: ='PPA MLP'!BI100 -> 13548.815 | BK39: ='PPA MLP'!BJ100 -> 0 | ... BO39: ='PPA MLP'!BN100 -> 1424.9762 | BP39: =SUM(BD39:BO39) -> 26667.069 | BQ39: =P39+AC39+AP39+BC39+BP39 -> 70732.527
